BEGIN:VCALENDAR
VERSION:2.0
PRODID:-//Sutherland Evangelical Church - ECPv6.15.13.1//NONSGML v1.0//EN
CALSCALE:GREGORIAN
METHOD:PUBLISH
X-ORIGINAL-URL:https://welcometo.sutherlandevangelicalchurch.com/dir
X-WR-CALDESC:Events for Sutherland Evangelical Church
REFRESH-INTERVAL;VALUE=DURATION:PT1H
X-Robots-Tag:noindex
X-PUBLISHED-TTL:PT1H
BEGIN:VTIMEZONE
TZID:America/Regina
BEGIN:STANDARD
TZOFFSETFROM:-0600
TZOFFSETTO:-0600
TZNAME:CST
DTSTART:20240101T000000
END:STANDARD
END:VTIMEZONE
BEGIN:VEVENT
DTSTART;TZID=America/Regina:20260211T190000
DTEND;TZID=America/Regina:20260211T203000
DTSTAMP:20260423T022036
CREATED:20260205T184325Z
LAST-MODIFIED:20260205T184325Z
UID:7503-1770836400-1770841800@welcometo.sutherlandevangelicalchurch.com
SUMMARY:North Group Bible Study
DESCRIPTION:
URL:https://welcometo.sutherlandevangelicalchurch.com/dir/event/north-group-bible-study/
END:VEVENT
BEGIN:VEVENT
DTSTART;TZID=America/Regina:20260211T190000
DTEND;TZID=America/Regina:20260211T203000
DTSTAMP:20260423T022036
CREATED:20260205T184259Z
LAST-MODIFIED:20260205T184259Z
UID:7501-1770836400-1770841800@welcometo.sutherlandevangelicalchurch.com
SUMMARY:Church Bible Study
DESCRIPTION:
URL:https://welcometo.sutherlandevangelicalchurch.com/dir/event/church-bible-study/
END:VEVENT
BEGIN:VEVENT
DTSTART;TZID=America/Regina:20260211T093000
DTEND;TZID=America/Regina:20260211T113000
DTSTAMP:20260423T022036
CREATED:20260114T193443Z
LAST-MODIFIED:20260114T193443Z
UID:7448-1770802200-1770809400@welcometo.sutherlandevangelicalchurch.com
SUMMARY:Coffee Fellowship
DESCRIPTION:
URL:https://welcometo.sutherlandevangelicalchurch.com/dir/event/coffee-fellowship-17/
END:VEVENT
BEGIN:VEVENT
DTSTART;TZID=America/Regina:20260210T120000
DTEND;TZID=America/Regina:20260210T123000
DTSTAMP:20260423T022036
CREATED:20260205T184410Z
LAST-MODIFIED:20260205T184410Z
UID:7505-1770724800-1770726600@welcometo.sutherlandevangelicalchurch.com
SUMMARY:Prayer meeting
DESCRIPTION:
URL:https://welcometo.sutherlandevangelicalchurch.com/dir/event/prayer-meeting-2/
END:VEVENT
BEGIN:VEVENT
DTSTART;TZID=America/Regina:20260209T190000
DTEND;TZID=America/Regina:20260209T203000
DTSTAMP:20260423T022036
CREATED:20260203T193515Z
LAST-MODIFIED:20260203T193515Z
UID:7486-1770663600-1770669000@welcometo.sutherlandevangelicalchurch.com
SUMMARY:Youth band practice
DESCRIPTION:
URL:https://welcometo.sutherlandevangelicalchurch.com/dir/event/youth-band-practice/
END:VEVENT
BEGIN:VEVENT
DTSTART;TZID=America/Regina:20260206T190000
DTEND;TZID=America/Regina:20260206T210000
DTSTAMP:20260423T022036
CREATED:20260205T190126Z
LAST-MODIFIED:20260205T190126Z
UID:7529-1770404400-1770411600@welcometo.sutherlandevangelicalchurch.com
SUMMARY:Youth Night
DESCRIPTION:
URL:https://welcometo.sutherlandevangelicalchurch.com/dir/event/youth-night-63/
END:VEVENT
BEGIN:VEVENT
DTSTART;TZID=America/Regina:20260203T190000
DTEND;TZID=America/Regina:20260203T203000
DTSTAMP:20260423T022036
CREATED:20260102T184419Z
LAST-MODIFIED:20260102T184419Z
UID:7383-1770145200-1770150600@welcometo.sutherlandevangelicalchurch.com
SUMMARY:Heart of Worship practice
DESCRIPTION:
URL:https://welcometo.sutherlandevangelicalchurch.com/dir/event/heart-of-worship-practice-27/
END:VEVENT
BEGIN:VEVENT
DTSTART;TZID=America/Regina:20260201T120000
DTEND;TZID=America/Regina:20260201T133000
DTSTAMP:20260423T022036
CREATED:20260114T192725Z
LAST-MODIFIED:20260114T192725Z
UID:7436-1769947200-1769952600@welcometo.sutherlandevangelicalchurch.com
SUMMARY:Potluck Lunch
DESCRIPTION:Everyone is asked to bring a hot dish to share as well as either a salad or a dessert.
URL:https://welcometo.sutherlandevangelicalchurch.com/dir/event/potluck-lunch-10/
END:VEVENT
BEGIN:VEVENT
DTSTART;TZID=America/Regina:20260128T190000
DTEND;TZID=America/Regina:20260128T210000
DTSTAMP:20260423T022036
CREATED:20260123T192957Z
LAST-MODIFIED:20260123T192957Z
UID:7478-1769626800-1769634000@welcometo.sutherlandevangelicalchurch.com
SUMMARY:Youth Night
DESCRIPTION:
URL:https://welcometo.sutherlandevangelicalchurch.com/dir/event/youth-night-62/
END:VEVENT
BEGIN:VEVENT
DTSTART;TZID=America/Regina:20260128T190000
DTEND;TZID=America/Regina:20260128T190100
DTSTAMP:20260423T022036
CREATED:20260108T184724Z
LAST-MODIFIED:20260108T184724Z
UID:7420-1769626800-1769626860@welcometo.sutherlandevangelicalchurch.com
SUMMARY:No Bible Study this week
DESCRIPTION:
URL:https://welcometo.sutherlandevangelicalchurch.com/dir/event/no-bible-study-this-week-6/
END:VEVENT
BEGIN:VEVENT
DTSTART;TZID=America/Regina:20260127T190000
DTEND;TZID=America/Regina:20260127T203000
DTSTAMP:20260423T022036
CREATED:20260102T184333Z
LAST-MODIFIED:20260102T184333Z
UID:7381-1769540400-1769545800@welcometo.sutherlandevangelicalchurch.com
SUMMARY:His Praise practice
DESCRIPTION:
URL:https://welcometo.sutherlandevangelicalchurch.com/dir/event/his-praise-practice-44/
END:VEVENT
BEGIN:VEVENT
DTSTART;TZID=America/Regina:20260123T190000
DTEND;TZID=America/Regina:20260123T210000
DTSTAMP:20260423T022036
CREATED:20260116T180303Z
LAST-MODIFIED:20260116T180303Z
UID:7466-1769194800-1769202000@welcometo.sutherlandevangelicalchurch.com
SUMMARY:Church booked for the youth
DESCRIPTION:movie night
URL:https://welcometo.sutherlandevangelicalchurch.com/dir/event/church-booked-for-the-youth/
END:VEVENT
BEGIN:VEVENT
DTSTART;TZID=America/Regina:20260122T180000
DTEND;TZID=America/Regina:20260122T203000
DTSTAMP:20260423T022036
CREATED:20260116T143848Z
LAST-MODIFIED:20260116T143848Z
UID:7458-1769104800-1769113800@welcometo.sutherlandevangelicalchurch.com
SUMMARY:Board Room Booked
DESCRIPTION:
URL:https://welcometo.sutherlandevangelicalchurch.com/dir/event/board-room-booked-9/
END:VEVENT
BEGIN:VEVENT
DTSTART;TZID=America/Regina:20260121T190000
DTEND;TZID=America/Regina:20260121T203000
DTSTAMP:20260423T022036
CREATED:20260102T183901Z
LAST-MODIFIED:20260102T183901Z
UID:7375-1769022000-1769027400@welcometo.sutherlandevangelicalchurch.com
SUMMARY:Bible Study
DESCRIPTION:
URL:https://welcometo.sutherlandevangelicalchurch.com/dir/event/bible-study-86/
END:VEVENT
BEGIN:VEVENT
DTSTART;TZID=America/Regina:20260116T190000
DTEND;TZID=America/Regina:20260116T210000
DTSTAMP:20260423T022036
CREATED:20260107T180603Z
LAST-MODIFIED:20260107T180603Z
UID:7414-1768590000-1768597200@welcometo.sutherlandevangelicalchurch.com
SUMMARY:Youth Night
DESCRIPTION:
URL:https://welcometo.sutherlandevangelicalchurch.com/dir/event/youth-night-61/
END:VEVENT
BEGIN:VEVENT
DTSTART;TZID=America/Regina:20260115T183000
DTEND;TZID=America/Regina:20260115T203000
DTSTAMP:20260423T022036
CREATED:20260107T180426Z
LAST-MODIFIED:20260107T180426Z
UID:7410-1768501800-1768509000@welcometo.sutherlandevangelicalchurch.com
SUMMARY:Council Meeting
DESCRIPTION:Board Room
URL:https://welcometo.sutherlandevangelicalchurch.com/dir/event/council-meeting-56/
END:VEVENT
BEGIN:VEVENT
DTSTART;TZID=America/Regina:20260114T190000
DTEND;TZID=America/Regina:20260114T203000
DTSTAMP:20260423T022036
CREATED:20260107T180529Z
LAST-MODIFIED:20260107T180529Z
UID:7412-1768417200-1768422600@welcometo.sutherlandevangelicalchurch.com
SUMMARY:North Group Bible Study Kick-Off
DESCRIPTION:Martensville
URL:https://welcometo.sutherlandevangelicalchurch.com/dir/event/north-group-bible-study-kick-off/
END:VEVENT
BEGIN:VEVENT
DTSTART;TZID=America/Regina:20260114T190000
DTEND;TZID=America/Regina:20260114T203000
DTSTAMP:20260423T022036
CREATED:20260102T183821Z
LAST-MODIFIED:20260102T183821Z
UID:7373-1768417200-1768422600@welcometo.sutherlandevangelicalchurch.com
SUMMARY:Bible Study
DESCRIPTION:@ church
URL:https://welcometo.sutherlandevangelicalchurch.com/dir/event/bible-study-85/
END:VEVENT
BEGIN:VEVENT
DTSTART;TZID=America/Regina:20260113T190000
DTEND;TZID=America/Regina:20260113T203000
DTSTAMP:20260423T022036
CREATED:20260102T184144Z
LAST-MODIFIED:20260102T184144Z
UID:7379-1768330800-1768336200@welcometo.sutherlandevangelicalchurch.com
SUMMARY:His Praise practice
DESCRIPTION:
URL:https://welcometo.sutherlandevangelicalchurch.com/dir/event/his-praise-practice-43/
END:VEVENT
BEGIN:VEVENT
DTSTART;TZID=America/Regina:20260112T183000
DTEND;TZID=America/Regina:20260112T200000
DTSTAMP:20260423T022036
CREATED:20251205T174557Z
LAST-MODIFIED:20251205T174557Z
UID:7322-1768242600-1768248000@welcometo.sutherlandevangelicalchurch.com
SUMMARY:Baby Shower
DESCRIPTION:Celebrating with Kaitlyn and Brooks
URL:https://welcometo.sutherlandevangelicalchurch.com/dir/event/baby-shower-10/
END:VEVENT
BEGIN:VEVENT
DTSTART;TZID=America/Regina:20260108T190000
DTEND;TZID=America/Regina:20260108T210000
DTSTAMP:20260423T022036
CREATED:20260102T163832Z
LAST-MODIFIED:20260102T163832Z
UID:7350-1767898800-1767906000@welcometo.sutherlandevangelicalchurch.com
SUMMARY:Church booked for SEC youth night.
DESCRIPTION:
URL:https://welcometo.sutherlandevangelicalchurch.com/dir/event/church-booked-for-sec-youth-night/
END:VEVENT
BEGIN:VEVENT
DTSTART;TZID=America/Regina:20260107T190000
DTEND;TZID=America/Regina:20260107T203000
DTSTAMP:20260423T022036
CREATED:20260102T183747Z
LAST-MODIFIED:20260102T183747Z
UID:7371-1767812400-1767817800@welcometo.sutherlandevangelicalchurch.com
SUMMARY:Bible Study
DESCRIPTION:In the Board Room or by Zoom
URL:https://welcometo.sutherlandevangelicalchurch.com/dir/event/bible-study-84/
END:VEVENT
BEGIN:VEVENT
DTSTART;TZID=America/Regina:20260106T190000
DTEND;TZID=America/Regina:20260106T203000
DTSTAMP:20260423T022036
CREATED:20260102T183953Z
LAST-MODIFIED:20260102T183953Z
UID:7377-1767726000-1767731400@welcometo.sutherlandevangelicalchurch.com
SUMMARY:Heart of Worship practice
DESCRIPTION:
URL:https://welcometo.sutherlandevangelicalchurch.com/dir/event/heart-of-worship-practice-26/
END:VEVENT
BEGIN:VEVENT
DTSTART;VALUE=DATE:20260102
DTEND;VALUE=DATE:20260103
DTSTAMP:20260423T022036
CREATED:20251203T174026Z
LAST-MODIFIED:20251203T174026Z
UID:7313-1767312000-1767398399@welcometo.sutherlandevangelicalchurch.com
SUMMARY:No youth event
DESCRIPTION:
URL:https://welcometo.sutherlandevangelicalchurch.com/dir/event/no-youth-event-2/
END:VEVENT
BEGIN:VEVENT
DTSTART;VALUE=DATE:20260101
DTEND;VALUE=DATE:20260102
DTSTAMP:20260423T022036
CREATED:20250925T194912Z
LAST-MODIFIED:20250925T194912Z
UID:7125-1767225600-1767311999@welcometo.sutherlandevangelicalchurch.com
SUMMARY:Office Closed
DESCRIPTION:
URL:https://welcometo.sutherlandevangelicalchurch.com/dir/event/office-closed-38/
END:VEVENT
BEGIN:VEVENT
DTSTART;TZID=America/Regina:20251231T190000
DTEND;TZID=America/Regina:20251231T235900
DTSTAMP:20260423T022036
CREATED:20251212T173031Z
LAST-MODIFIED:20251212T173132Z
UID:7335-1767207600-1767225540@welcometo.sutherlandevangelicalchurch.com
SUMMARY:New Year's Eve Games & Prayer
DESCRIPTION:Bring snacks and games!
URL:https://welcometo.sutherlandevangelicalchurch.com/dir/event/new-years-eve-games-prayer/
END:VEVENT
BEGIN:VEVENT
DTSTART;TZID=America/Regina:20251228T103000
DTEND;TZID=America/Regina:20251228T120000
DTSTAMP:20260423T022036
CREATED:20251203T174109Z
LAST-MODIFIED:20251203T174156Z
UID:7315-1766917800-1766923200@welcometo.sutherlandevangelicalchurch.com
SUMMARY:Worship 10:30am (No Sunday School)
DESCRIPTION:
URL:https://welcometo.sutherlandevangelicalchurch.com/dir/event/worship-1030-am-no-sunday-school/
END:VEVENT
BEGIN:VEVENT
DTSTART;TZID=America/Regina:20251227T170000
DTEND;TZID=America/Regina:20251227T220000
DTSTAMP:20260423T022036
CREATED:20251114T172713Z
LAST-MODIFIED:20251114T172713Z
UID:7238-1766854800-1766872800@welcometo.sutherlandevangelicalchurch.com
SUMMARY:Private Rental
DESCRIPTION:D Doerksen
URL:https://welcometo.sutherlandevangelicalchurch.com/dir/event/private-rental-45/
END:VEVENT
BEGIN:VEVENT
DTSTART;VALUE=DATE:20251226
DTEND;VALUE=DATE:20251227
DTSTAMP:20260423T022036
CREATED:20251203T173955Z
LAST-MODIFIED:20251203T173955Z
UID:7311-1766707200-1766793599@welcometo.sutherlandevangelicalchurch.com
SUMMARY:No youth event
DESCRIPTION:
URL:https://welcometo.sutherlandevangelicalchurch.com/dir/event/no-youth-event/
END:VEVENT
BEGIN:VEVENT
DTSTART;VALUE=DATE:20251226
DTEND;VALUE=DATE:20251227
DTSTAMP:20260423T022036
CREATED:20250925T194851Z
LAST-MODIFIED:20250925T194851Z
UID:7123-1766707200-1766793599@welcometo.sutherlandevangelicalchurch.com
SUMMARY:Office Closed
DESCRIPTION:
URL:https://welcometo.sutherlandevangelicalchurch.com/dir/event/office-closed-37/
END:VEVENT
END:VCALENDAR