BEGIN:VCALENDAR
VERSION:2.0
PRODID:-//Sutherland Evangelical Church - ECPv6.15.13.1//NONSGML v1.0//EN
CALSCALE:GREGORIAN
METHOD:PUBLISH
X-WR-CALNAME:Sutherland Evangelical Church
X-ORIGINAL-URL:https://welcometo.sutherlandevangelicalchurch.com/dir
X-WR-CALDESC:Events for Sutherland Evangelical Church
REFRESH-INTERVAL;VALUE=DURATION:PT1H
X-Robots-Tag:noindex
X-PUBLISHED-TTL:PT1H
BEGIN:VTIMEZONE
TZID:America/Regina
BEGIN:STANDARD
TZOFFSETFROM:-0600
TZOFFSETTO:-0600
TZNAME:CST
DTSTART:20240101T000000
END:STANDARD
END:VTIMEZONE
BEGIN:VEVENT
DTSTART;TZID=America/Regina:20250525T103000
DTEND;TZID=America/Regina:20250525T120000
DTSTAMP:20260425T204105
CREATED:20250522T171852Z
LAST-MODIFIED:20250522T171852Z
UID:6382-1748169000-1748174400@welcometo.sutherlandevangelicalchurch.com
SUMMARY:Worship Service
DESCRIPTION:
URL:https://welcometo.sutherlandevangelicalchurch.com/dir/event/worship-service-43/
END:VEVENT
BEGIN:VEVENT
DTSTART;TZID=America/Regina:20250525T093000
DTEND;TZID=America/Regina:20250525T101500
DTSTAMP:20260425T204105
CREATED:20250522T171827Z
LAST-MODIFIED:20250522T171827Z
UID:6380-1748165400-1748168100@welcometo.sutherlandevangelicalchurch.com
SUMMARY:Sunday School
DESCRIPTION:
URL:https://welcometo.sutherlandevangelicalchurch.com/dir/event/sunday-school-51/
END:VEVENT
BEGIN:VEVENT
DTSTART;TZID=America/Regina:20250518T103000
DTEND;TZID=America/Regina:20250518T120000
DTSTAMP:20260425T204105
CREATED:20250522T171753Z
LAST-MODIFIED:20250522T171753Z
UID:6378-1747564200-1747569600@welcometo.sutherlandevangelicalchurch.com
SUMMARY:Worship Service
DESCRIPTION:
URL:https://welcometo.sutherlandevangelicalchurch.com/dir/event/worship-service-42/
END:VEVENT
BEGIN:VEVENT
DTSTART;TZID=America/Regina:20250518T093000
DTEND;TZID=America/Regina:20250518T101500
DTSTAMP:20260425T204105
CREATED:20250522T171721Z
LAST-MODIFIED:20250522T171721Z
UID:6376-1747560600-1747563300@welcometo.sutherlandevangelicalchurch.com
SUMMARY:Sunday School
DESCRIPTION:
URL:https://welcometo.sutherlandevangelicalchurch.com/dir/event/sunday-school-50/
END:VEVENT
BEGIN:VEVENT
DTSTART;TZID=America/Regina:20250514T093000
DTEND;TZID=America/Regina:20250514T110000
DTSTAMP:20260425T204105
CREATED:20241220T180236Z
LAST-MODIFIED:20241220T180236Z
UID:6060-1747215000-1747220400@welcometo.sutherlandevangelicalchurch.com
SUMMARY:Coffee Fellowship
DESCRIPTION:
URL:https://welcometo.sutherlandevangelicalchurch.com/dir/event/coffee-fellowship-11/
END:VEVENT
BEGIN:VEVENT
DTSTART;VALUE=DATE:20250512
DTEND;VALUE=DATE:20250513
DTSTAMP:20260425T204105
CREATED:20250321T185453Z
LAST-MODIFIED:20250321T185453Z
UID:6276-1747008000-1747094399@welcometo.sutherlandevangelicalchurch.com
SUMMARY:Deadline for Annual Reports Submission
DESCRIPTION:
URL:https://welcometo.sutherlandevangelicalchurch.com/dir/event/deadline-for-annual-reports-submission/
END:VEVENT
BEGIN:VEVENT
DTSTART;TZID=America/Regina:20250504T120000
DTEND;TZID=America/Regina:20250504T133000
DTSTAMP:20260425T204105
CREATED:20250123T174551Z
LAST-MODIFIED:20250123T174551Z
UID:6142-1746360000-1746365400@welcometo.sutherlandevangelicalchurch.com
SUMMARY:Fellowship Lunch
DESCRIPTION:
URL:https://welcometo.sutherlandevangelicalchurch.com/dir/event/fellowship-lunch-5/
END:VEVENT
BEGIN:VEVENT
DTSTART;TZID=America/Regina:20250504T080000
DTEND;TZID=America/Regina:20250505T170000
DTSTAMP:20260425T204105
CREATED:20250417T150924Z
LAST-MODIFIED:20250417T150924Z
UID:6327-1746345600-1746464400@welcometo.sutherlandevangelicalchurch.com
SUMMARY:Suite Booked
DESCRIPTION:
URL:https://welcometo.sutherlandevangelicalchurch.com/dir/event/suite-booked-33/
END:VEVENT
BEGIN:VEVENT
DTSTART;TZID=America/Regina:20250430T190000
DTEND;TZID=America/Regina:20250430T203000
DTSTAMP:20260425T204105
CREATED:20250417T151533Z
LAST-MODIFIED:20250417T151533Z
UID:6337-1746039600-1746045000@welcometo.sutherlandevangelicalchurch.com
SUMMARY:Bible Study
DESCRIPTION:
URL:https://welcometo.sutherlandevangelicalchurch.com/dir/event/bible-study-76/
END:VEVENT
BEGIN:VEVENT
DTSTART;TZID=America/Regina:20250427T103000
DTEND;TZID=America/Regina:20250427T120000
DTSTAMP:20260425T204105
CREATED:20250417T151734Z
LAST-MODIFIED:20250417T152043Z
UID:6341-1745749800-1745755200@welcometo.sutherlandevangelicalchurch.com
SUMMARY:Region 1 Joint Service @ Antioch Ministries in Warman
DESCRIPTION:No service at SEC
URL:https://welcometo.sutherlandevangelicalchurch.com/dir/event/sunday-worship-20/
END:VEVENT
BEGIN:VEVENT
DTSTART;TZID=America/Regina:20250423T190000
DTEND;TZID=America/Regina:20250423T203000
DTSTAMP:20260425T204105
CREATED:20250417T151115Z
LAST-MODIFIED:20250417T151234Z
UID:6329-1745434800-1745440200@welcometo.sutherlandevangelicalchurch.com
SUMMARY:Bible Study
DESCRIPTION:
URL:https://welcometo.sutherlandevangelicalchurch.com/dir/event/bible-study-73/
END:VEVENT
BEGIN:VEVENT
DTSTART;TZID=America/Regina:20250420T103000
DTEND;TZID=America/Regina:20250420T120000
DTSTAMP:20260425T204105
CREATED:20250417T151959Z
LAST-MODIFIED:20250417T151959Z
UID:6345-1745145000-1745150400@welcometo.sutherlandevangelicalchurch.com
SUMMARY:Sunday Worship
DESCRIPTION:
URL:https://welcometo.sutherlandevangelicalchurch.com/dir/event/sunday-worship-21/
END:VEVENT
BEGIN:VEVENT
DTSTART;TZID=America/Regina:20250420T093000
DTEND;TZID=America/Regina:20250420T221500
DTSTAMP:20260425T204105
CREATED:20250417T151642Z
LAST-MODIFIED:20250417T151642Z
UID:6339-1745141400-1745187300@welcometo.sutherlandevangelicalchurch.com
SUMMARY:Sunday School
DESCRIPTION:
URL:https://welcometo.sutherlandevangelicalchurch.com/dir/event/sunday-school-49/
END:VEVENT
BEGIN:VEVENT
DTSTART;TZID=America/Regina:20250418T103000
DTEND;TZID=America/Regina:20250418T120000
DTSTAMP:20260425T204105
CREATED:20250314T175559Z
LAST-MODIFIED:20250314T175559Z
UID:6255-1744972200-1744977600@welcometo.sutherlandevangelicalchurch.com
SUMMARY:Joint Good Friday Service
DESCRIPTION:
URL:https://welcometo.sutherlandevangelicalchurch.com/dir/event/joint-good-friday-service-2/
END:VEVENT
BEGIN:VEVENT
DTSTART;TZID=America/Regina:20250417T170000
DTEND;TZID=America/Regina:20250417T210000
DTSTAMP:20260425T204105
CREATED:20250326T193922Z
LAST-MODIFIED:20250326T193922Z
UID:6286-1744909200-1744923600@welcometo.sutherlandevangelicalchurch.com
SUMMARY:Rehearsal for Good Friday
DESCRIPTION:
URL:https://welcometo.sutherlandevangelicalchurch.com/dir/event/rehearsal-for-good-friday/
END:VEVENT
BEGIN:VEVENT
DTSTART;TZID=America/Regina:20250416T183000
DTEND;TZID=America/Regina:20250416T210000
DTSTAMP:20260425T204105
CREATED:20250321T185213Z
LAST-MODIFIED:20250321T185213Z
UID:6270-1744828200-1744837200@welcometo.sutherlandevangelicalchurch.com
SUMMARY:Council Meeting
DESCRIPTION:
URL:https://welcometo.sutherlandevangelicalchurch.com/dir/event/council-meeting-51/
END:VEVENT
BEGIN:VEVENT
DTSTART;TZID=America/Regina:20250414T190000
DTEND;TZID=America/Regina:20250414T210000
DTSTAMP:20260425T204105
CREATED:20250306T184642Z
LAST-MODIFIED:20250306T184642Z
UID:6244-1744657200-1744664400@welcometo.sutherlandevangelicalchurch.com
SUMMARY:Kadesh AGM @ SEC
DESCRIPTION:
URL:https://welcometo.sutherlandevangelicalchurch.com/dir/event/kadesh-agm-sec/
END:VEVENT
BEGIN:VEVENT
DTSTART;TZID=America/Regina:20250413T103000
DTEND;TZID=America/Regina:20250413T120000
DTSTAMP:20260425T204105
CREATED:20250321T185345Z
LAST-MODIFIED:20250321T185345Z
UID:6274-1744540200-1744545600@welcometo.sutherlandevangelicalchurch.com
SUMMARY:Communion Sunday
DESCRIPTION:
URL:https://welcometo.sutherlandevangelicalchurch.com/dir/event/communion-sunday-9/
END:VEVENT
BEGIN:VEVENT
DTSTART;TZID=America/Regina:20250413T093000
DTEND;TZID=America/Regina:20250413T101500
DTSTAMP:20260425T204105
CREATED:20250321T185306Z
LAST-MODIFIED:20250321T185317Z
UID:6272-1744536600-1744539300@welcometo.sutherlandevangelicalchurch.com
SUMMARY:Sunday School
DESCRIPTION:
URL:https://welcometo.sutherlandevangelicalchurch.com/dir/event/sunday-school-48/
END:VEVENT
BEGIN:VEVENT
DTSTART;TZID=America/Regina:20250409T190000
DTEND;TZID=America/Regina:20250409T203000
DTSTAMP:20260425T204105
CREATED:20250417T151428Z
LAST-MODIFIED:20250417T151428Z
UID:6335-1744225200-1744230600@welcometo.sutherlandevangelicalchurch.com
SUMMARY:Bible Study
DESCRIPTION:
URL:https://welcometo.sutherlandevangelicalchurch.com/dir/event/bible-study-75/
END:VEVENT
BEGIN:VEVENT
DTSTART;TZID=America/Regina:20250409T093000
DTEND;TZID=America/Regina:20250409T110000
DTSTAMP:20260425T204105
CREATED:20241220T180055Z
LAST-MODIFIED:20241220T180055Z
UID:6058-1744191000-1744196400@welcometo.sutherlandevangelicalchurch.com
SUMMARY:Coffee Fellowship
DESCRIPTION:
URL:https://welcometo.sutherlandevangelicalchurch.com/dir/event/coffee-fellowship-10/
END:VEVENT
BEGIN:VEVENT
DTSTART;TZID=America/Regina:20250407T190000
DTEND;TZID=America/Regina:20250407T210000
DTSTAMP:20260425T204105
CREATED:20250318T162548Z
LAST-MODIFIED:20250318T162548Z
UID:6262-1744052400-1744059600@welcometo.sutherlandevangelicalchurch.com
SUMMARY:Drama practice--sanctuary booked
DESCRIPTION:
URL:https://welcometo.sutherlandevangelicalchurch.com/dir/event/drama-practice-sanctuary-booked-2/
END:VEVENT
BEGIN:VEVENT
DTSTART;TZID=America/Regina:20250406T120000
DTEND;TZID=America/Regina:20250406T133000
DTSTAMP:20260425T204105
CREATED:20250123T174229Z
LAST-MODIFIED:20250326T193633Z
UID:6136-1743940800-1743946200@welcometo.sutherlandevangelicalchurch.com
SUMMARY:Sandwich Potluck & Dessert Auction
DESCRIPTION:
URL:https://welcometo.sutherlandevangelicalchurch.com/dir/event/sandwich-potluck/
END:VEVENT
BEGIN:VEVENT
DTSTART;TZID=America/Regina:20250402T190000
DTEND;TZID=America/Regina:20250402T203000
DTSTAMP:20260425T204105
CREATED:20250417T151326Z
LAST-MODIFIED:20250417T151326Z
UID:6332-1743620400-1743625800@welcometo.sutherlandevangelicalchurch.com
SUMMARY:Bible Study
DESCRIPTION:
URL:https://welcometo.sutherlandevangelicalchurch.com/dir/event/bible-study-74/
END:VEVENT
BEGIN:VEVENT
DTSTART;TZID=America/Regina:20250331T190000
DTEND;TZID=America/Regina:20250331T210000
DTSTAMP:20260425T204105
CREATED:20250318T162513Z
LAST-MODIFIED:20250318T162513Z
UID:6260-1743447600-1743454800@welcometo.sutherlandevangelicalchurch.com
SUMMARY:Drama practice--sanctuary booked
DESCRIPTION:
URL:https://welcometo.sutherlandevangelicalchurch.com/dir/event/drama-practice-sanctuary-booked/
END:VEVENT
BEGIN:VEVENT
DTSTART;TZID=America/Regina:20250330T103000
DTEND;TZID=America/Regina:20250330T120000
DTSTAMP:20260425T204105
CREATED:20250306T184412Z
LAST-MODIFIED:20250306T184412Z
UID:6238-1743330600-1743336000@welcometo.sutherlandevangelicalchurch.com
SUMMARY:Sunday Worship
DESCRIPTION:
URL:https://welcometo.sutherlandevangelicalchurch.com/dir/event/sunday-worship-19/
END:VEVENT
BEGIN:VEVENT
DTSTART;TZID=America/Regina:20250330T093000
DTEND;TZID=America/Regina:20250330T101500
DTSTAMP:20260425T204105
CREATED:20250306T184341Z
LAST-MODIFIED:20250306T184341Z
UID:6236-1743327000-1743329700@welcometo.sutherlandevangelicalchurch.com
SUMMARY:Sunday School
DESCRIPTION:
URL:https://welcometo.sutherlandevangelicalchurch.com/dir/event/sunday-school-47/
END:VEVENT
BEGIN:VEVENT
DTSTART;TZID=America/Regina:20250326T190000
DTEND;TZID=America/Regina:20250326T203000
DTSTAMP:20260425T204105
CREATED:20250306T184606Z
LAST-MODIFIED:20250306T184606Z
UID:6242-1743015600-1743021000@welcometo.sutherlandevangelicalchurch.com
SUMMARY:Bible Study
DESCRIPTION:
URL:https://welcometo.sutherlandevangelicalchurch.com/dir/event/bible-study-71/
END:VEVENT
BEGIN:VEVENT
DTSTART;TZID=America/Regina:20250325T190000
DTEND;TZID=America/Regina:20250325T210000
DTSTAMP:20260425T204105
CREATED:20250306T184530Z
LAST-MODIFIED:20250306T184530Z
UID:6240-1742929200-1742936400@welcometo.sutherlandevangelicalchurch.com
SUMMARY:Youth Workers' Meeting
DESCRIPTION:Youth Wing
URL:https://welcometo.sutherlandevangelicalchurch.com/dir/event/youth-workers-meeting-10/
END:VEVENT
BEGIN:VEVENT
DTSTART;TZID=America/Regina:20250324T190000
DTEND;TZID=America/Regina:20250324T210000
DTSTAMP:20260425T204105
CREATED:20250318T162329Z
LAST-MODIFIED:20250318T162359Z
UID:6257-1742842800-1742850000@welcometo.sutherlandevangelicalchurch.com
SUMMARY:Drama practice-sanctuary booked
DESCRIPTION:
URL:https://welcometo.sutherlandevangelicalchurch.com/dir/event/drama-practice-20/
END:VEVENT
END:VCALENDAR