BEGIN:VCALENDAR
VERSION:2.0
PRODID:-//Sutherland Evangelical Church - ECPv6.15.13.1//NONSGML v1.0//EN
CALSCALE:GREGORIAN
METHOD:PUBLISH
X-WR-CALNAME:Sutherland Evangelical Church
X-ORIGINAL-URL:https://welcometo.sutherlandevangelicalchurch.com/dir
X-WR-CALDESC:Events for Sutherland Evangelical Church
REFRESH-INTERVAL;VALUE=DURATION:PT1H
X-Robots-Tag:noindex
X-PUBLISHED-TTL:PT1H
BEGIN:VTIMEZONE
TZID:America/Regina
BEGIN:STANDARD
TZOFFSETFROM:-0600
TZOFFSETTO:-0600
TZNAME:CST
DTSTART:20250101T000000
END:STANDARD
END:VTIMEZONE
BEGIN:VEVENT
DTSTART;VALUE=DATE:20260502
DTEND;VALUE=DATE:20260503
DTSTAMP:20260422T170709
CREATED:20260409T194019Z
LAST-MODIFIED:20260409T194019Z
UID:7674-1777680000-1777766399@welcometo.sutherlandevangelicalchurch.com
SUMMARY:Kadesh Workday
DESCRIPTION:
URL:https://welcometo.sutherlandevangelicalchurch.com/dir/event/kadesh-workday-2/
END:VEVENT
BEGIN:VEVENT
DTSTART;TZID=America/Regina:20260513T093000
DTEND;TZID=America/Regina:20260513T113000
DTSTAMP:20260422T170709
CREATED:20260114T193621Z
LAST-MODIFIED:20260114T193621Z
UID:7454-1778664600-1778671800@welcometo.sutherlandevangelicalchurch.com
SUMMARY:Coffee Fellowship
DESCRIPTION:
URL:https://welcometo.sutherlandevangelicalchurch.com/dir/event/coffee-fellowship-20/
END:VEVENT
BEGIN:VEVENT
DTSTART;VALUE=DATE:20260519
DTEND;VALUE=DATE:20260520
DTSTAMP:20260422T170709
CREATED:20260320T174340Z
LAST-MODIFIED:20260320T174340Z
UID:7651-1779148800-1779235199@welcometo.sutherlandevangelicalchurch.com
SUMMARY:Office Closed
DESCRIPTION:
URL:https://welcometo.sutherlandevangelicalchurch.com/dir/event/office-closed-42/
END:VEVENT
BEGIN:VEVENT
DTSTART;VALUE=DATE:20260522
DTEND;VALUE=DATE:20260525
DTSTAMP:20260422T170709
CREATED:20260318T174658Z
LAST-MODIFIED:20260318T174658Z
UID:7618-1779408000-1779667199@welcometo.sutherlandevangelicalchurch.com
SUMMARY:Men's Retreat
DESCRIPTION:
URL:https://welcometo.sutherlandevangelicalchurch.com/dir/event/mens-retreat/
END:VEVENT
BEGIN:VEVENT
DTSTART;TZID=America/Regina:20260523T100000
DTEND;TZID=America/Regina:20260523T140000
DTSTAMP:20260422T170709
CREATED:20260114T193302Z
LAST-MODIFIED:20260320T174414Z
UID:7446-1779530400-1779544800@welcometo.sutherlandevangelicalchurch.com
SUMMARY:Kitchen Spring Cleaning Bee
DESCRIPTION:
URL:https://welcometo.sutherlandevangelicalchurch.com/dir/event/kitchen-spring-cleaning-bee/
END:VEVENT
BEGIN:VEVENT
DTSTART;TZID=America/Regina:20260528T190000
DTEND;TZID=America/Regina:20260528T210000
DTSTAMP:20260422T170709
CREATED:20260320T172318Z
LAST-MODIFIED:20260320T172318Z
UID:7648-1779994800-1780002000@welcometo.sutherlandevangelicalchurch.com
SUMMARY:Annual Elections Meeting
DESCRIPTION:
URL:https://welcometo.sutherlandevangelicalchurch.com/dir/event/annual-elections-meeting-6/
END:VEVENT
BEGIN:VEVENT
DTSTART;TZID=America/Regina:20260531T120000
DTEND;TZID=America/Regina:20260531T140000
DTSTAMP:20260422T170709
CREATED:20260114T193210Z
LAST-MODIFIED:20260320T174250Z
UID:7444-1780228800-1780236000@welcometo.sutherlandevangelicalchurch.com
SUMMARY:Sandwich Potluck & Dessert Auction
DESCRIPTION:Please bring sandwiches and veggies/pickles.
URL:https://welcometo.sutherlandevangelicalchurch.com/dir/event/sandwich-potluck-2/
END:VEVENT
BEGIN:VEVENT
DTSTART;TZID=America/Regina:20260610T093000
DTEND;TZID=America/Regina:20260610T113000
DTSTAMP:20260422T170709
CREATED:20260114T193651Z
LAST-MODIFIED:20260114T193651Z
UID:7456-1781083800-1781091000@welcometo.sutherlandevangelicalchurch.com
SUMMARY:Coffee Fellowship
DESCRIPTION:
URL:https://welcometo.sutherlandevangelicalchurch.com/dir/event/coffee-fellowship-21/
END:VEVENT
BEGIN:VEVENT
DTSTART;TZID=America/Regina:20260614T120000
DTEND;TZID=America/Regina:20260614T143000
DTSTAMP:20260422T170709
CREATED:20260114T192452Z
LAST-MODIFIED:20260114T192452Z
UID:7433-1781438400-1781447400@welcometo.sutherlandevangelicalchurch.com
SUMMARY:Church Picnic
DESCRIPTION:
URL:https://welcometo.sutherlandevangelicalchurch.com/dir/event/church-picnic-4/
END:VEVENT
BEGIN:VEVENT
DTSTART;VALUE=DATE:20260918
DTEND;VALUE=DATE:20260921
DTSTAMP:20260422T170709
CREATED:20260205T170402Z
LAST-MODIFIED:20260205T170402Z
UID:7498-1789689600-1789948799@welcometo.sutherlandevangelicalchurch.com
SUMMARY:Church Camp Weekend
DESCRIPTION:
URL:https://welcometo.sutherlandevangelicalchurch.com/dir/event/church-camp-weekend-2/
END:VEVENT
BEGIN:VEVENT
DTSTART;VALUE=DATE:20261003
DTEND;VALUE=DATE:20261004
DTSTAMP:20260422T170709
CREATED:20260320T172246Z
LAST-MODIFIED:20260320T172246Z
UID:7646-1790985600-1791071999@welcometo.sutherlandevangelicalchurch.com
SUMMARY:Church Booked
DESCRIPTION:Josh
URL:https://welcometo.sutherlandevangelicalchurch.com/dir/event/church-booked-4/
END:VEVENT
END:VCALENDAR