BEGIN:VCALENDAR
VERSION:2.0
PRODID:-//Sutherland Evangelical Church - ECPv6.15.13.1//NONSGML v1.0//EN
CALSCALE:GREGORIAN
METHOD:PUBLISH
X-ORIGINAL-URL:https://welcometo.sutherlandevangelicalchurch.com/dir
X-WR-CALDESC:Events for Sutherland Evangelical Church
REFRESH-INTERVAL;VALUE=DURATION:PT1H
X-Robots-Tag:noindex
X-PUBLISHED-TTL:PT1H
BEGIN:VTIMEZONE
TZID:America/Regina
BEGIN:STANDARD
TZOFFSETFROM:-0600
TZOFFSETTO:-0600
TZNAME:CST
DTSTART:20240101T000000
END:STANDARD
END:VTIMEZONE
BEGIN:VEVENT
DTSTART;TZID=America/Regina:20250907T000000
DTEND;TZID=America/Regina:20250907T235900
DTSTAMP:20260425T140842
CREATED:20250905T152615Z
LAST-MODIFIED:20250905T152739Z
UID:7050-1757203200-1757289540@welcometo.sutherlandevangelicalchurch.com
SUMMARY:Church building closed for this Sunday.
DESCRIPTION:Sunday worship will be at Camp Kadesh this Sunday.
URL:https://welcometo.sutherlandevangelicalchurch.com/dir/event/church-building-closed-for-this-sunday/
END:VEVENT
BEGIN:VEVENT
DTSTART;VALUE=DATE:20250905
DTEND;VALUE=DATE:20250908
DTSTAMP:20260425T140842
CREATED:20250624T170610Z
LAST-MODIFIED:20250624T170610Z
UID:6458-1757030400-1757289599@welcometo.sutherlandevangelicalchurch.com
SUMMARY:Church Camp
DESCRIPTION:
URL:https://welcometo.sutherlandevangelicalchurch.com/dir/event/church-camp/
END:VEVENT
BEGIN:VEVENT
DTSTART;TZID=America/Regina:20250831T103000
DTEND;TZID=America/Regina:20250831T120000
DTSTAMP:20260425T140842
CREATED:20250724T170049Z
LAST-MODIFIED:20250724T170205Z
UID:6995-1756636200-1756641600@welcometo.sutherlandevangelicalchurch.com
SUMMARY:Worship Service
DESCRIPTION:
URL:https://welcometo.sutherlandevangelicalchurch.com/dir/event/worship-service-52/
END:VEVENT
BEGIN:VEVENT
DTSTART;TZID=America/Regina:20250827T140000
DTEND;TZID=America/Regina:20250827T160000
DTSTAMP:20260425T140842
CREATED:20250808T173916Z
LAST-MODIFIED:20250808T173916Z
UID:7021-1756303200-1756310400@welcometo.sutherlandevangelicalchurch.com
SUMMARY:Drop-In Youth Event
DESCRIPTION:
URL:https://welcometo.sutherlandevangelicalchurch.com/dir/event/drop-in-youth-event-2/
END:VEVENT
BEGIN:VEVENT
DTSTART;TZID=America/Regina:20250824T103000
DTEND;TZID=America/Regina:20250824T120000
DTSTAMP:20260425T140842
CREATED:20250724T170015Z
LAST-MODIFIED:20250724T170015Z
UID:6993-1756031400-1756036800@welcometo.sutherlandevangelicalchurch.com
SUMMARY:Worship Service
DESCRIPTION:
URL:https://welcometo.sutherlandevangelicalchurch.com/dir/event/worship-service-51/
END:VEVENT
BEGIN:VEVENT
DTSTART;VALUE=DATE:20250822
DTEND;VALUE=DATE:20250824
DTSTAMP:20260425T140842
CREATED:20250808T173513Z
LAST-MODIFIED:20250808T173513Z
UID:7017-1755820800-1755993599@welcometo.sutherlandevangelicalchurch.com
SUMMARY:suite booked
DESCRIPTION:
URL:https://welcometo.sutherlandevangelicalchurch.com/dir/event/suite-booked-37/
END:VEVENT
BEGIN:VEVENT
DTSTART;TZID=America/Regina:20250817T103000
DTEND;TZID=America/Regina:20250817T120000
DTSTAMP:20260425T140842
CREATED:20250724T165941Z
LAST-MODIFIED:20250724T165941Z
UID:6991-1755426600-1755432000@welcometo.sutherlandevangelicalchurch.com
SUMMARY:Worship Service
DESCRIPTION:
URL:https://welcometo.sutherlandevangelicalchurch.com/dir/event/worship-service-50/
END:VEVENT
BEGIN:VEVENT
DTSTART;VALUE=DATE:20250814
DTEND;VALUE=DATE:20250819
DTSTAMP:20260425T140842
CREATED:20250808T173445Z
LAST-MODIFIED:20250808T173445Z
UID:7015-1755129600-1755561599@welcometo.sutherlandevangelicalchurch.com
SUMMARY:suite booked
DESCRIPTION:
URL:https://welcometo.sutherlandevangelicalchurch.com/dir/event/suite-booked-36/
END:VEVENT
BEGIN:VEVENT
DTSTART;TZID=America/Regina:20250813T140000
DTEND;TZID=America/Regina:20250813T160000
DTSTAMP:20260425T140842
CREATED:20250808T173619Z
LAST-MODIFIED:20250808T173823Z
UID:7019-1755093600-1755100800@welcometo.sutherlandevangelicalchurch.com
SUMMARY:Drop-In Youth Event
DESCRIPTION:
URL:https://welcometo.sutherlandevangelicalchurch.com/dir/event/drop-in-youth-event/
END:VEVENT
BEGIN:VEVENT
DTSTART;TZID=America/Regina:20250810T103000
DTEND;TZID=America/Regina:20250810T120000
DTSTAMP:20260425T140842
CREATED:20250724T165914Z
LAST-MODIFIED:20250724T165914Z
UID:6989-1754821800-1754827200@welcometo.sutherlandevangelicalchurch.com
SUMMARY:Worship Service
DESCRIPTION:JOIN US!
URL:https://welcometo.sutherlandevangelicalchurch.com/dir/event/worship-service-49/
END:VEVENT
BEGIN:VEVENT
DTSTART;VALUE=DATE:20250808
DTEND;VALUE=DATE:20250809
DTSTAMP:20260425T140842
CREATED:20250529T191659Z
LAST-MODIFIED:20250529T191659Z
UID:6424-1754611200-1754697599@welcometo.sutherlandevangelicalchurch.com
SUMMARY:Church Rental
DESCRIPTION:Friesen family
URL:https://welcometo.sutherlandevangelicalchurch.com/dir/event/church-rental-7/
END:VEVENT
BEGIN:VEVENT
DTSTART;VALUE=DATE:20250807
DTEND;VALUE=DATE:20250810
DTSTAMP:20260425T140842
CREATED:20250808T173035Z
LAST-MODIFIED:20250808T173035Z
UID:7013-1754524800-1754783999@welcometo.sutherlandevangelicalchurch.com
SUMMARY:suite booked
DESCRIPTION:
URL:https://welcometo.sutherlandevangelicalchurch.com/dir/event/suite-booked-35/
END:VEVENT
BEGIN:VEVENT
DTSTART;TZID=America/Regina:20250803T103000
DTEND;TZID=America/Regina:20250803T120000
DTSTAMP:20260425T140842
CREATED:20250724T165810Z
LAST-MODIFIED:20250724T165810Z
UID:6987-1754217000-1754222400@welcometo.sutherlandevangelicalchurch.com
SUMMARY:Worship Service
DESCRIPTION:JOIN US!
URL:https://welcometo.sutherlandevangelicalchurch.com/dir/event/worship-service-48/
END:VEVENT
BEGIN:VEVENT
DTSTART;VALUE=DATE:20250803
DTEND;VALUE=DATE:20250804
DTSTAMP:20260425T140842
CREATED:20250624T170724Z
LAST-MODIFIED:20250624T170724Z
UID:6460-1754179200-1754265599@welcometo.sutherlandevangelicalchurch.com
SUMMARY:Camp Registration Deadline
DESCRIPTION:
URL:https://welcometo.sutherlandevangelicalchurch.com/dir/event/camp-registration-deadline/
END:VEVENT
BEGIN:VEVENT
DTSTART;TZID=America/Regina:20250727T103000
DTEND;TZID=America/Regina:20250727T120000
DTSTAMP:20260425T140842
CREATED:20250711T172923Z
LAST-MODIFIED:20250711T172923Z
UID:6946-1753612200-1753617600@welcometo.sutherlandevangelicalchurch.com
SUMMARY:Worship Service
DESCRIPTION:
URL:https://welcometo.sutherlandevangelicalchurch.com/dir/event/worship-service-47/
END:VEVENT
BEGIN:VEVENT
DTSTART;TZID=America/Regina:20250720T103000
DTEND;TZID=America/Regina:20250720T120000
DTSTAMP:20260425T140842
CREATED:20250711T172853Z
LAST-MODIFIED:20250711T172853Z
UID:6944-1753007400-1753012800@welcometo.sutherlandevangelicalchurch.com
SUMMARY:Worship Service
DESCRIPTION:
URL:https://welcometo.sutherlandevangelicalchurch.com/dir/event/worship-service-46/
END:VEVENT
BEGIN:VEVENT
DTSTART;TZID=America/Regina:20250713T103000
DTEND;TZID=America/Regina:20250713T120000
DTSTAMP:20260425T140842
CREATED:20250711T172531Z
LAST-MODIFIED:20250711T172531Z
UID:6942-1752402600-1752408000@welcometo.sutherlandevangelicalchurch.com
SUMMARY:Worship Service (no Sunday School until Sept)
DESCRIPTION:
URL:https://welcometo.sutherlandevangelicalchurch.com/dir/event/worship-service-no-sunday-school-until-sept/
END:VEVENT
BEGIN:VEVENT
DTSTART;TZID=America/Regina:20250706T103000
DTEND;TZID=America/Regina:20250706T120000
DTSTAMP:20260425T140842
CREATED:20250624T170347Z
LAST-MODIFIED:20250624T170347Z
UID:6456-1751797800-1751803200@welcometo.sutherlandevangelicalchurch.com
SUMMARY:Worship Service @ 10:30am
DESCRIPTION:
URL:https://welcometo.sutherlandevangelicalchurch.com/dir/event/worship-service-1030am-41/
END:VEVENT
BEGIN:VEVENT
DTSTART;VALUE=DATE:20250701
DTEND;VALUE=DATE:20250702
DTSTAMP:20260425T140842
CREATED:20250606T183810Z
LAST-MODIFIED:20250606T183810Z
UID:6442-1751328000-1751414399@welcometo.sutherlandevangelicalchurch.com
SUMMARY:Office Closed
DESCRIPTION:
URL:https://welcometo.sutherlandevangelicalchurch.com/dir/event/office-closed-35/
END:VEVENT
BEGIN:VEVENT
DTSTART;TZID=America/Regina:20250629T103000
DTEND;TZID=America/Regina:20250629T120000
DTSTAMP:20260425T140842
CREATED:20250522T172546Z
LAST-MODIFIED:20250522T172546Z
UID:6397-1751193000-1751198400@welcometo.sutherlandevangelicalchurch.com
SUMMARY:Worship Service (No Sunday School)
DESCRIPTION:Sunday School will resume on Sept 14.
URL:https://welcometo.sutherlandevangelicalchurch.com/dir/event/worship-service-no-sunday-school-6/
END:VEVENT
BEGIN:VEVENT
DTSTART;TZID=America/Regina:20250622T103000
DTEND;TZID=America/Regina:20250622T120000
DTSTAMP:20260425T140842
CREATED:20250522T172454Z
LAST-MODIFIED:20250606T183739Z
UID:6395-1750588200-1750593600@welcometo.sutherlandevangelicalchurch.com
SUMMARY:Worship Service (No Sunday School) Baptism Sunday
DESCRIPTION:Sunday School will resume on September 14.
URL:https://welcometo.sutherlandevangelicalchurch.com/dir/event/worship-service-no-sunday-school-5/
END:VEVENT
BEGIN:VEVENT
DTSTART;TZID=America/Regina:20250620T090000
DTEND;TZID=America/Regina:20250620T110000
DTSTAMP:20260425T140842
CREATED:20250529T190701Z
LAST-MODIFIED:20250529T191506Z
UID:6422-1750410000-1750417200@welcometo.sutherlandevangelicalchurch.com
SUMMARY:Breakfast & Missions
DESCRIPTION:Come to hear about the mission field from Bolivia missionaries: Abe & Margaret Harder and Benni & Lorina Dueck.
URL:https://welcometo.sutherlandevangelicalchurch.com/dir/event/breakfast-missions/
END:VEVENT
BEGIN:VEVENT
DTSTART;TZID=America/Regina:20250620T090000
DTEND;TZID=America/Regina:20250620T103000
DTSTAMP:20260425T140842
CREATED:20250606T183710Z
LAST-MODIFIED:20250606T183710Z
UID:6439-1750410000-1750415400@welcometo.sutherlandevangelicalchurch.com
SUMMARY:Missions Breakfast & Sharing
DESCRIPTION:EMMC missionaries\, Harders and Duecks\, will be joining us.
URL:https://welcometo.sutherlandevangelicalchurch.com/dir/event/missions-breakfast-sharing/
END:VEVENT
BEGIN:VEVENT
DTSTART;TZID=America/Regina:20250619T183000
DTEND;TZID=America/Regina:20250619T203000
DTSTAMP:20260425T140842
CREATED:20250606T183554Z
LAST-MODIFIED:20250606T183554Z
UID:6437-1750357800-1750365000@welcometo.sutherlandevangelicalchurch.com
SUMMARY:Council Meeting
DESCRIPTION:
URL:https://welcometo.sutherlandevangelicalchurch.com/dir/event/council-meeting-52/
END:VEVENT
BEGIN:VEVENT
DTSTART;TZID=America/Regina:20250619T080000
DTEND;TZID=America/Regina:20250620T170000
DTSTAMP:20260425T140842
CREATED:20250417T152414Z
LAST-MODIFIED:20250417T152414Z
UID:6348-1750320000-1750438800@welcometo.sutherlandevangelicalchurch.com
SUMMARY:Suite Booked
DESCRIPTION:
URL:https://welcometo.sutherlandevangelicalchurch.com/dir/event/suite-booked-34/
END:VEVENT
BEGIN:VEVENT
DTSTART;TZID=America/Regina:20250615T103000
DTEND;TZID=America/Regina:20250615T120000
DTSTAMP:20260425T140842
CREATED:20250522T172328Z
LAST-MODIFIED:20250606T183510Z
UID:6393-1749983400-1749988800@welcometo.sutherlandevangelicalchurch.com
SUMMARY:Worship Service (No Sunday School) & Communion
DESCRIPTION:
URL:https://welcometo.sutherlandevangelicalchurch.com/dir/event/worship-service-no-sunday-school-4/
END:VEVENT
BEGIN:VEVENT
DTSTART;TZID=America/Regina:20250614T130000
DTEND;TZID=America/Regina:20250614T160000
DTSTAMP:20260425T140842
CREATED:20250606T183410Z
LAST-MODIFIED:20250606T183410Z
UID:6433-1749906000-1749916800@welcometo.sutherlandevangelicalchurch.com
SUMMARY:Youth Bottle Drive
DESCRIPTION:
URL:https://welcometo.sutherlandevangelicalchurch.com/dir/event/youth-bottle-drive/
END:VEVENT
BEGIN:VEVENT
DTSTART;TZID=America/Regina:20250611T093000
DTEND;TZID=America/Regina:20250611T110000
DTSTAMP:20260425T140842
CREATED:20241220T180313Z
LAST-MODIFIED:20241220T180313Z
UID:6062-1749634200-1749639600@welcometo.sutherlandevangelicalchurch.com
SUMMARY:Coffee Fellowship
DESCRIPTION:
URL:https://welcometo.sutherlandevangelicalchurch.com/dir/event/coffee-fellowship-12/
END:VEVENT
BEGIN:VEVENT
DTSTART;TZID=America/Regina:20250608T120000
DTEND;TZID=America/Regina:20250608T150000
DTSTAMP:20260425T140842
CREATED:20250319T174259Z
LAST-MODIFIED:20250522T172238Z
UID:6264-1749384000-1749394800@welcometo.sutherlandevangelicalchurch.com
SUMMARY:Church Picnic
DESCRIPTION:
URL:https://welcometo.sutherlandevangelicalchurch.com/dir/event/church-picnic-3/
END:VEVENT
BEGIN:VEVENT
DTSTART;TZID=America/Regina:20250608T103000
DTEND;TZID=America/Regina:20250608T120000
DTSTAMP:20260425T140842
CREATED:20250522T172134Z
LAST-MODIFIED:20250522T172134Z
UID:6390-1749378600-1749384000@welcometo.sutherlandevangelicalchurch.com
SUMMARY:Worship Service
DESCRIPTION:
URL:https://welcometo.sutherlandevangelicalchurch.com/dir/event/worship-service-45/
END:VEVENT
END:VCALENDAR