BEGIN:VCALENDAR
VERSION:2.0
PRODID:-//Sutherland Evangelical Church - ECPv6.15.13.1//NONSGML v1.0//EN
CALSCALE:GREGORIAN
METHOD:PUBLISH
X-WR-CALNAME:Sutherland Evangelical Church
X-ORIGINAL-URL:https://welcometo.sutherlandevangelicalchurch.com/dir
X-WR-CALDESC:Events for Sutherland Evangelical Church
REFRESH-INTERVAL;VALUE=DURATION:PT1H
X-Robots-Tag:noindex
X-PUBLISHED-TTL:PT1H
BEGIN:VTIMEZONE
TZID:America/Regina
BEGIN:STANDARD
TZOFFSETFROM:-0600
TZOFFSETTO:-0600
TZNAME:CST
DTSTART:20240101T000000
END:STANDARD
END:VTIMEZONE
BEGIN:VEVENT
DTSTART;TZID=America/Regina:20251109T093000
DTEND;TZID=America/Regina:20251109T120000
DTSTAMP:20260425T080529
CREATED:20251105T153835Z
LAST-MODIFIED:20251105T153835Z
UID:7213-1762680600-1762689600@welcometo.sutherlandevangelicalchurch.com
SUMMARY:Sun Schl 9:30am Worship 10:30am
DESCRIPTION:
URL:https://welcometo.sutherlandevangelicalchurch.com/dir/event/sun-schl-930am-worship-1030am-7/
END:VEVENT
BEGIN:VEVENT
DTSTART;TZID=America/Regina:20251109T093000
DTEND;TZID=America/Regina:20251109T103000
DTSTAMP:20260425T080529
CREATED:20251003T171826Z
LAST-MODIFIED:20251105T153917Z
UID:7155-1762680600-1762684200@welcometo.sutherlandevangelicalchurch.com
SUMMARY:Board Room booked
DESCRIPTION:Darlene
URL:https://welcometo.sutherlandevangelicalchurch.com/dir/event/board-room-booked-5/
END:VEVENT
BEGIN:VEVENT
DTSTART;VALUE=DATE:20251107
DTEND;VALUE=DATE:20251109
DTSTAMP:20260425T080529
CREATED:20251015T163624Z
LAST-MODIFIED:20251015T163624Z
UID:7179-1762473600-1762646399@welcometo.sutherlandevangelicalchurch.com
SUMMARY:Church Rental
DESCRIPTION:Choir Workshop — Not a SEC event.
URL:https://welcometo.sutherlandevangelicalchurch.com/dir/event/church-rental-8/
END:VEVENT
BEGIN:VEVENT
DTSTART;TZID=America/Regina:20251104T190000
DTEND;TZID=America/Regina:20251104T203000
DTSTAMP:20260425T080529
CREATED:20250919T155318Z
LAST-MODIFIED:20250919T155318Z
UID:7090-1762282800-1762288200@welcometo.sutherlandevangelicalchurch.com
SUMMARY:His Praise practice
DESCRIPTION:
URL:https://welcometo.sutherlandevangelicalchurch.com/dir/event/his-praise-practice-40/
END:VEVENT
BEGIN:VEVENT
DTSTART;TZID=America/Regina:20251102T120000
DTEND;TZID=America/Regina:20251102T133000
DTSTAMP:20260425T080529
CREATED:20251003T172919Z
LAST-MODIFIED:20251003T172919Z
UID:7170-1762084800-1762090200@welcometo.sutherlandevangelicalchurch.com
SUMMARY:Potluck Lunch
DESCRIPTION:Please bring sandwiches AND veggies or cookies.
URL:https://welcometo.sutherlandevangelicalchurch.com/dir/event/potluck-lunch-9/
END:VEVENT
BEGIN:VEVENT
DTSTART;TZID=America/Regina:20251102T093000
DTEND;TZID=America/Regina:20251102T120000
DTSTAMP:20260425T080529
CREATED:20251003T172648Z
LAST-MODIFIED:20251003T172648Z
UID:7168-1762075800-1762084800@welcometo.sutherlandevangelicalchurch.com
SUMMARY:Sun Schl 9:30am Worship 10:30am
DESCRIPTION:
URL:https://welcometo.sutherlandevangelicalchurch.com/dir/event/sun-schl-930am-worship-1030am-6/
END:VEVENT
BEGIN:VEVENT
DTSTART;TZID=America/Regina:20251102T090000
DTEND;TZID=America/Regina:20251102T103000
DTSTAMP:20260425T080529
CREATED:20251003T171747Z
LAST-MODIFIED:20251003T171747Z
UID:7153-1762074000-1762079400@welcometo.sutherlandevangelicalchurch.com
SUMMARY:Board Room booked
DESCRIPTION:Darlene
URL:https://welcometo.sutherlandevangelicalchurch.com/dir/event/board-room-booked-4/
END:VEVENT
BEGIN:VEVENT
DTSTART;TZID=America/Regina:20251029T190000
DTEND;TZID=America/Regina:20251029T203000
DTSTAMP:20260425T080529
CREATED:20251001T175802Z
LAST-MODIFIED:20251001T175802Z
UID:7141-1761764400-1761769800@welcometo.sutherlandevangelicalchurch.com
SUMMARY:Bible Study
DESCRIPTION:SEC Board Room
URL:https://welcometo.sutherlandevangelicalchurch.com/dir/event/bible-study-80/
END:VEVENT
BEGIN:VEVENT
DTSTART;TZID=America/Regina:20251028T190000
DTEND;TZID=America/Regina:20251028T203000
DTSTAMP:20260425T080529
CREATED:20250919T155159Z
LAST-MODIFIED:20250919T155235Z
UID:7088-1761678000-1761683400@welcometo.sutherlandevangelicalchurch.com
SUMMARY:Heart of Worship practice
DESCRIPTION:
URL:https://welcometo.sutherlandevangelicalchurch.com/dir/event/heart-of-worship-practice-24/
END:VEVENT
BEGIN:VEVENT
DTSTART;TZID=America/Regina:20251026T093000
DTEND;TZID=America/Regina:20251026T120000
DTSTAMP:20260425T080529
CREATED:20251003T172555Z
LAST-MODIFIED:20251003T172555Z
UID:7166-1761471000-1761480000@welcometo.sutherlandevangelicalchurch.com
SUMMARY:Sun Schl 9:30am Worship 10:30am
DESCRIPTION:
URL:https://welcometo.sutherlandevangelicalchurch.com/dir/event/sun-schl-930am-worship-1030am-5/
END:VEVENT
BEGIN:VEVENT
DTSTART;TZID=America/Regina:20251024T193000
DTEND;TZID=America/Regina:20251024T210000
DTSTAMP:20260425T080529
CREATED:20251001T175600Z
LAST-MODIFIED:20251001T175600Z
UID:7139-1761334200-1761339600@welcometo.sutherlandevangelicalchurch.com
SUMMARY:Region 1 Worship Night
DESCRIPTION:Rosthern Youth Farm.
URL:https://welcometo.sutherlandevangelicalchurch.com/dir/event/region-1-worship-night/
END:VEVENT
BEGIN:VEVENT
DTSTART;TZID=America/Regina:20251024T190000
DTEND;TZID=America/Regina:20251024T210000
DTSTAMP:20260425T080530
CREATED:20251017T155731Z
LAST-MODIFIED:20251017T155731Z
UID:7186-1761332400-1761339600@welcometo.sutherlandevangelicalchurch.com
SUMMARY:Youth Night @ 306 Network Youth Rally
DESCRIPTION:
URL:https://welcometo.sutherlandevangelicalchurch.com/dir/event/youth-night-306-network-youth-rally/
END:VEVENT
BEGIN:VEVENT
DTSTART;VALUE=DATE:20251024
DTEND;VALUE=DATE:20251026
DTSTAMP:20260425T080530
CREATED:20250912T175607Z
LAST-MODIFIED:20250912T175607Z
UID:7068-1761264000-1761436799@welcometo.sutherlandevangelicalchurch.com
SUMMARY:Region 1 Leadership Retreat
DESCRIPTION:
URL:https://welcometo.sutherlandevangelicalchurch.com/dir/event/region-1-leadership-retreat/
END:VEVENT
BEGIN:VEVENT
DTSTART;TZID=America/Regina:20251022T190000
DTEND;TZID=America/Regina:20251022T200000
DTSTAMP:20260425T080530
CREATED:20251001T175330Z
LAST-MODIFIED:20251003T173235Z
UID:7135-1761159600-1761163200@welcometo.sutherlandevangelicalchurch.com
SUMMARY:***No Bible Study at church this week.
DESCRIPTION:
URL:https://welcometo.sutherlandevangelicalchurch.com/dir/event/no-bible-study-at-church-this-week/
END:VEVENT
BEGIN:VEVENT
DTSTART;TZID=America/Regina:20251021T190000
DTEND;TZID=America/Regina:20251021T203000
DTSTAMP:20260425T080530
CREATED:20250919T155023Z
LAST-MODIFIED:20250919T155023Z
UID:7086-1761073200-1761078600@welcometo.sutherlandevangelicalchurch.com
SUMMARY:His Praise practice
DESCRIPTION:
URL:https://welcometo.sutherlandevangelicalchurch.com/dir/event/his-praise-practice-39/
END:VEVENT
BEGIN:VEVENT
DTSTART;TZID=America/Regina:20251019T093000
DTEND;TZID=America/Regina:20251019T120000
DTSTAMP:20260425T080530
CREATED:20251003T172253Z
LAST-MODIFIED:20251003T172404Z
UID:7163-1760866200-1760875200@welcometo.sutherlandevangelicalchurch.com
SUMMARY:Sun Schl 9:30am Worship 10:30am
DESCRIPTION:
URL:https://welcometo.sutherlandevangelicalchurch.com/dir/event/sun-schl-930am/
END:VEVENT
BEGIN:VEVENT
DTSTART;TZID=America/Regina:20251017T190000
DTEND;TZID=America/Regina:20251017T210000
DTSTAMP:20260425T080530
CREATED:20251015T164604Z
LAST-MODIFIED:20251015T164604Z
UID:7181-1760727600-1760734800@welcometo.sutherlandevangelicalchurch.com
SUMMARY:Youth Night
DESCRIPTION:in the Youth Wing
URL:https://welcometo.sutherlandevangelicalchurch.com/dir/event/youth-night-60/
END:VEVENT
BEGIN:VEVENT
DTSTART;VALUE=DATE:20251017
DTEND;VALUE=DATE:20251019
DTSTAMP:20260425T080530
CREATED:20251001T175424Z
LAST-MODIFIED:20251001T175424Z
UID:7137-1760659200-1760831999@welcometo.sutherlandevangelicalchurch.com
SUMMARY:Suite booked
DESCRIPTION:
URL:https://welcometo.sutherlandevangelicalchurch.com/dir/event/suite-booked-38/
END:VEVENT
BEGIN:VEVENT
DTSTART;TZID=America/Regina:20251016T183000
DTEND;TZID=America/Regina:20251016T203000
DTSTAMP:20260425T080530
CREATED:20251001T182312Z
LAST-MODIFIED:20251001T182312Z
UID:7143-1760639400-1760646600@welcometo.sutherlandevangelicalchurch.com
SUMMARY:Council Meeting
DESCRIPTION:
URL:https://welcometo.sutherlandevangelicalchurch.com/dir/event/council-meeting-54/
END:VEVENT
BEGIN:VEVENT
DTSTART;TZID=America/Regina:20251015T190000
DTEND;TZID=America/Regina:20251015T203000
DTSTAMP:20260425T080530
CREATED:20250925T194556Z
LAST-MODIFIED:20250925T194556Z
UID:7117-1760554800-1760560200@welcometo.sutherlandevangelicalchurch.com
SUMMARY:Bible Study
DESCRIPTION:
URL:https://welcometo.sutherlandevangelicalchurch.com/dir/event/bible-study-78/
END:VEVENT
BEGIN:VEVENT
DTSTART;TZID=America/Regina:20251014T190000
DTEND;TZID=America/Regina:20251014T203000
DTSTAMP:20260425T080530
CREATED:20250919T154638Z
LAST-MODIFIED:20250919T154638Z
UID:7084-1760468400-1760473800@welcometo.sutherlandevangelicalchurch.com
SUMMARY:Heart of Worship practice
DESCRIPTION:
URL:https://welcometo.sutherlandevangelicalchurch.com/dir/event/heart-of-worship-practice-23/
END:VEVENT
BEGIN:VEVENT
DTSTART;TZID=America/Regina:20251012T093000
DTEND;TZID=America/Regina:20251012T120000
DTSTAMP:20260425T080530
CREATED:20250925T194159Z
LAST-MODIFIED:20250925T194457Z
UID:7113-1760261400-1760270400@welcometo.sutherlandevangelicalchurch.com
SUMMARY:Sun. Schl 9:30am Worship 10:30am
DESCRIPTION:
URL:https://welcometo.sutherlandevangelicalchurch.com/dir/event/sun-schl-930am-worship-1030am-3/
END:VEVENT
BEGIN:VEVENT
DTSTART;TZID=America/Regina:20251010T180000
DTEND;TZID=America/Regina:20251010T200000
DTSTAMP:20260425T080530
CREATED:20251001T200716Z
LAST-MODIFIED:20251001T200716Z
UID:7145-1760119200-1760126400@welcometo.sutherlandevangelicalchurch.com
SUMMARY:Youth Night
DESCRIPTION:Nelson Farm
URL:https://welcometo.sutherlandevangelicalchurch.com/dir/event/youth-night-59/
END:VEVENT
BEGIN:VEVENT
DTSTART;VALUE=DATE:20251010
DTEND;VALUE=DATE:20251014
DTSTAMP:20260425T080530
CREATED:20251010T175033Z
LAST-MODIFIED:20251010T175033Z
UID:7177-1760054400-1760399999@welcometo.sutherlandevangelicalchurch.com
SUMMARY:Suite booked
DESCRIPTION:
URL:https://welcometo.sutherlandevangelicalchurch.com/dir/event/suite-booked-39/
END:VEVENT
BEGIN:VEVENT
DTSTART;TZID=America/Regina:20251008T190000
DTEND;TZID=America/Regina:20251008T203000
DTSTAMP:20260425T080530
CREATED:20250925T194630Z
LAST-MODIFIED:20250925T194630Z
UID:7119-1759950000-1759955400@welcometo.sutherlandevangelicalchurch.com
SUMMARY:Bible Study
DESCRIPTION:
URL:https://welcometo.sutherlandevangelicalchurch.com/dir/event/bible-study-79/
END:VEVENT
BEGIN:VEVENT
DTSTART;TZID=America/Regina:20251008T093000
DTEND;TZID=America/Regina:20251008T110000
DTSTAMP:20260425T080530
CREATED:20250919T155914Z
LAST-MODIFIED:20250919T155914Z
UID:7098-1759915800-1759921200@welcometo.sutherlandevangelicalchurch.com
SUMMARY:Coffee Fellowship
DESCRIPTION:
URL:https://welcometo.sutherlandevangelicalchurch.com/dir/event/coffee-fellowship-14/
END:VEVENT
BEGIN:VEVENT
DTSTART;TZID=America/Regina:20251005T120000
DTEND;TZID=America/Regina:20251005T140000
DTSTAMP:20260425T080530
CREATED:20250919T150935Z
LAST-MODIFIED:20250919T150935Z
UID:7073-1759665600-1759672800@welcometo.sutherlandevangelicalchurch.com
SUMMARY:Potluck Fellowship Lunch
DESCRIPTION:Please bring a main dish\, and either a salad or a dessert.
URL:https://welcometo.sutherlandevangelicalchurch.com/dir/event/potluck-fellowship-lunch/
END:VEVENT
BEGIN:VEVENT
DTSTART;TZID=America/Regina:20251005T093000
DTEND;TZID=America/Regina:20251005T120000
DTSTAMP:20260425T080530
CREATED:20250925T194308Z
LAST-MODIFIED:20250925T194308Z
UID:7115-1759656600-1759665600@welcometo.sutherlandevangelicalchurch.com
SUMMARY:Sun. Schl 9:30am Worship 10:30am
DESCRIPTION:
URL:https://welcometo.sutherlandevangelicalchurch.com/dir/event/sun-schl-930am-worship-1030am-4/
END:VEVENT
BEGIN:VEVENT
DTSTART;TZID=America/Regina:20251003T190000
DTEND;TZID=America/Regina:20251003T210000
DTSTAMP:20260425T080530
CREATED:20250926T174122Z
LAST-MODIFIED:20250926T174122Z
UID:7133-1759518000-1759525200@welcometo.sutherlandevangelicalchurch.com
SUMMARY:Youth Night
DESCRIPTION:Putt N Bounce
URL:https://welcometo.sutherlandevangelicalchurch.com/dir/event/youth-night-58/
END:VEVENT
BEGIN:VEVENT
DTSTART;TZID=America/Regina:20251001T190000
DTEND;TZID=America/Regina:20251001T203000
DTSTAMP:20260425T080530
CREATED:20250919T153457Z
LAST-MODIFIED:20250919T153457Z
UID:7078-1759345200-1759350600@welcometo.sutherlandevangelicalchurch.com
SUMMARY:Bible Study
DESCRIPTION:
URL:https://welcometo.sutherlandevangelicalchurch.com/dir/event/bible-study-77/
END:VEVENT
END:VCALENDAR