BEGIN:VCALENDAR
VERSION:2.0
PRODID:-//Sutherland Evangelical Church - ECPv6.15.13.1//NONSGML v1.0//EN
CALSCALE:GREGORIAN
METHOD:PUBLISH
X-WR-CALNAME:Sutherland Evangelical Church
X-ORIGINAL-URL:https://welcometo.sutherlandevangelicalchurch.com/dir
X-WR-CALDESC:Events for Sutherland Evangelical Church
REFRESH-INTERVAL;VALUE=DURATION:PT1H
X-Robots-Tag:noindex
X-PUBLISHED-TTL:PT1H
BEGIN:VTIMEZONE
TZID:America/Regina
BEGIN:STANDARD
TZOFFSETFROM:-0600
TZOFFSETTO:-0600
TZNAME:CST
DTSTART:20250101T000000
END:STANDARD
END:VTIMEZONE
BEGIN:VEVENT
DTSTART;TZID=America/Regina:20260322T093000
DTEND;TZID=America/Regina:20260322T120000
DTSTAMP:20260422T170441
CREATED:20260319T173557Z
LAST-MODIFIED:20260319T173557Z
UID:7624-1774171800-1774180800@welcometo.sutherlandevangelicalchurch.com
SUMMARY:Sun Sch 9:30am Worship 10:30am
DESCRIPTION:
URL:https://welcometo.sutherlandevangelicalchurch.com/dir/event/sun-sch-930am-worship-1030am-3/
END:VEVENT
BEGIN:VEVENT
DTSTART;TZID=America/Regina:20260324T190000
DTEND;TZID=America/Regina:20260324T210000
DTSTAMP:20260422T170441
CREATED:20260318T173939Z
LAST-MODIFIED:20260318T173939Z
UID:7606-1774378800-1774386000@welcometo.sutherlandevangelicalchurch.com
SUMMARY:His Praise practice
DESCRIPTION:
URL:https://welcometo.sutherlandevangelicalchurch.com/dir/event/his-praise-practice-46/
END:VEVENT
BEGIN:VEVENT
DTSTART;TZID=America/Regina:20260325T190000
DTEND;TZID=America/Regina:20260325T203000
DTSTAMP:20260422T170441
CREATED:20260318T174311Z
LAST-MODIFIED:20260318T174311Z
UID:7613-1774465200-1774470600@welcometo.sutherlandevangelicalchurch.com
SUMMARY:Bible Study
DESCRIPTION:
URL:https://welcometo.sutherlandevangelicalchurch.com/dir/event/bible-study-91/
END:VEVENT
BEGIN:VEVENT
DTSTART;TZID=America/Regina:20260327T190000
DTEND;TZID=America/Regina:20260327T210000
DTSTAMP:20260422T170441
CREATED:20260318T173846Z
LAST-MODIFIED:20260318T173846Z
UID:7604-1774638000-1774645200@welcometo.sutherlandevangelicalchurch.com
SUMMARY:Church booked for Youth
DESCRIPTION:Nerf Wars
URL:https://welcometo.sutherlandevangelicalchurch.com/dir/event/church-booked-for-youth/
END:VEVENT
BEGIN:VEVENT
DTSTART;TZID=America/Regina:20260329T093000
DTEND;TZID=America/Regina:20260329T120000
DTSTAMP:20260422T170441
CREATED:20260319T173712Z
LAST-MODIFIED:20260320T172431Z
UID:7628-1774776600-1774785600@welcometo.sutherlandevangelicalchurch.com
SUMMARY:Sun Sch 9:30am Worship 10:30am  Communion Sunday
DESCRIPTION:
URL:https://welcometo.sutherlandevangelicalchurch.com/dir/event/sun-sch-930am-worship-1030am-5/
END:VEVENT
BEGIN:VEVENT
DTSTART;TZID=America/Regina:20260330T190000
DTEND;TZID=America/Regina:20260330T203000
DTSTAMP:20260422T170441
CREATED:20260303T195521Z
LAST-MODIFIED:20260303T195521Z
UID:7565-1774897200-1774902600@welcometo.sutherlandevangelicalchurch.com
SUMMARY:Youth band practice
DESCRIPTION:
URL:https://welcometo.sutherlandevangelicalchurch.com/dir/event/youth-band-practice-5/
END:VEVENT
BEGIN:VEVENT
DTSTART;TZID=America/Regina:20260331T190000
DTEND;TZID=America/Regina:20260331T210000
DTSTAMP:20260422T170441
CREATED:20260318T174012Z
LAST-MODIFIED:20260318T174012Z
UID:7608-1774983600-1774990800@welcometo.sutherlandevangelicalchurch.com
SUMMARY:Heart of Worship practice
DESCRIPTION:
URL:https://welcometo.sutherlandevangelicalchurch.com/dir/event/heart-of-worship-practice-30/
END:VEVENT
BEGIN:VEVENT
DTSTART;TZID=America/Regina:20260402T180000
DTEND;TZID=America/Regina:20260402T203000
DTSTAMP:20260422T170441
CREATED:20260318T174117Z
LAST-MODIFIED:20260318T174228Z
UID:7610-1775152800-1775161800@welcometo.sutherlandevangelicalchurch.com
SUMMARY:Church booked for GF practice crew
DESCRIPTION:supper and practice
URL:https://welcometo.sutherlandevangelicalchurch.com/dir/event/good-friday-prep/
END:VEVENT
BEGIN:VEVENT
DTSTART;TZID=America/Regina:20260403T080000
DTEND;TZID=America/Regina:20260403T170000
DTSTAMP:20260422T170441
CREATED:20260205T185959Z
LAST-MODIFIED:20260205T185959Z
UID:7527-1775203200-1775235600@welcometo.sutherlandevangelicalchurch.com
SUMMARY:Office closed
DESCRIPTION:
URL:https://welcometo.sutherlandevangelicalchurch.com/dir/event/office-closed-41/
END:VEVENT
BEGIN:VEVENT
DTSTART;TZID=America/Regina:20260403T103000
DTEND;TZID=America/Regina:20260403T120000
DTSTAMP:20260422T170441
CREATED:20260116T191034Z
LAST-MODIFIED:20260116T191034Z
UID:7470-1775212200-1775217600@welcometo.sutherlandevangelicalchurch.com
SUMMARY:Good Friday Service
DESCRIPTION:Joint service with several churches in our sanctuary.
URL:https://welcometo.sutherlandevangelicalchurch.com/dir/event/good-friday-service-5/
END:VEVENT
BEGIN:VEVENT
DTSTART;TZID=America/Regina:20260405T093000
DTEND;TZID=America/Regina:20260405T120000
DTSTAMP:20260422T170441
CREATED:20260319T173757Z
LAST-MODIFIED:20260402T161722Z
UID:7630-1775381400-1775390400@welcometo.sutherlandevangelicalchurch.com
SUMMARY:Easter Sunday!  Sun Sch 9:30am Worship 10:30am
DESCRIPTION:
URL:https://welcometo.sutherlandevangelicalchurch.com/dir/event/sun-sch-930am-worship-1030am-6/
END:VEVENT
BEGIN:VEVENT
DTSTART;TZID=America/Regina:20260407T190000
DTEND;TZID=America/Regina:20260407T203000
DTSTAMP:20260422T170441
CREATED:20260318T174606Z
LAST-MODIFIED:20260318T174606Z
UID:7616-1775588400-1775593800@welcometo.sutherlandevangelicalchurch.com
SUMMARY:His Praise practice
DESCRIPTION:
URL:https://welcometo.sutherlandevangelicalchurch.com/dir/event/his-praise-practice-47/
END:VEVENT
BEGIN:VEVENT
DTSTART;TZID=America/Regina:20260408T093000
DTEND;TZID=America/Regina:20260408T113000
DTSTAMP:20260422T170441
CREATED:20260114T193547Z
LAST-MODIFIED:20260114T193547Z
UID:7452-1775640600-1775647800@welcometo.sutherlandevangelicalchurch.com
SUMMARY:Coffee Fellowship
DESCRIPTION:
URL:https://welcometo.sutherlandevangelicalchurch.com/dir/event/coffee-fellowship-19/
END:VEVENT
BEGIN:VEVENT
DTSTART;TZID=America/Regina:20260408T190000
DTEND;TZID=America/Regina:20260408T203000
DTSTAMP:20260422T170441
CREATED:20260402T161808Z
LAST-MODIFIED:20260402T161808Z
UID:7664-1775674800-1775680200@welcometo.sutherlandevangelicalchurch.com
SUMMARY:North Group Bible Study in Osler
DESCRIPTION:
URL:https://welcometo.sutherlandevangelicalchurch.com/dir/event/north-group-bible-study-in-osler/
END:VEVENT
BEGIN:VEVENT
DTSTART;TZID=America/Regina:20260408T190000
DTEND;TZID=America/Regina:20260408T210000
DTSTAMP:20260422T170441
CREATED:20260402T161519Z
LAST-MODIFIED:20260402T161847Z
UID:7661-1775674800-1775682000@welcometo.sutherlandevangelicalchurch.com
SUMMARY:Church booked 7-9pm (Youth)
DESCRIPTION:Youth
URL:https://welcometo.sutherlandevangelicalchurch.com/dir/event/church-booked-7-9pm/
END:VEVENT
BEGIN:VEVENT
DTSTART;TZID=America/Regina:20260412T093000
DTEND;TZID=America/Regina:20260412T120000
DTSTAMP:20260422T170441
CREATED:20260319T173835Z
LAST-MODIFIED:20260319T173835Z
UID:7632-1775986200-1775995200@welcometo.sutherlandevangelicalchurch.com
SUMMARY:Sun Sch 9:30am Worship 10:30am
DESCRIPTION:
URL:https://welcometo.sutherlandevangelicalchurch.com/dir/event/sun-sch-930am-worship-1030am-7/
END:VEVENT
BEGIN:VEVENT
DTSTART;TZID=America/Regina:20260413T190000
DTEND;TZID=America/Regina:20260413T203000
DTSTAMP:20260422T170441
CREATED:20260319T174157Z
LAST-MODIFIED:20260319T174245Z
UID:7638-1776106800-1776112200@welcometo.sutherlandevangelicalchurch.com
SUMMARY:Youth band practice
DESCRIPTION:
URL:https://welcometo.sutherlandevangelicalchurch.com/dir/event/youth-music-team-practice/
END:VEVENT
BEGIN:VEVENT
DTSTART;TZID=America/Regina:20260414T190000
DTEND;TZID=America/Regina:20260414T203000
DTSTAMP:20260422T170441
CREATED:20260318T174912Z
LAST-MODIFIED:20260318T174912Z
UID:7620-1776193200-1776198600@welcometo.sutherlandevangelicalchurch.com
SUMMARY:Heart of Worship practice
DESCRIPTION:
URL:https://welcometo.sutherlandevangelicalchurch.com/dir/event/heart-of-worship-practice-31/
END:VEVENT
BEGIN:VEVENT
DTSTART;TZID=America/Regina:20260415T190000
DTEND;TZID=America/Regina:20260415T203000
DTSTAMP:20260422T170441
CREATED:20260319T174532Z
LAST-MODIFIED:20260402T161626Z
UID:7641-1776279600-1776285000@welcometo.sutherlandevangelicalchurch.com
SUMMARY:Bible Study
DESCRIPTION:
URL:https://welcometo.sutherlandevangelicalchurch.com/dir/event/bible-study-92/
END:VEVENT
BEGIN:VEVENT
DTSTART;TZID=America/Regina:20260416T183000
DTEND;TZID=America/Regina:20260416T210000
DTSTAMP:20260422T170441
CREATED:20260410T173602Z
LAST-MODIFIED:20260410T173602Z
UID:7681-1776364200-1776373200@welcometo.sutherlandevangelicalchurch.com
SUMMARY:Council meeting
DESCRIPTION:Boardroom booked
URL:https://welcometo.sutherlandevangelicalchurch.com/dir/event/council-meeting-58/
END:VEVENT
BEGIN:VEVENT
DTSTART;TZID=America/Regina:20260417T190000
DTEND;TZID=America/Regina:20260417T210000
DTSTAMP:20260422T170441
CREATED:20260407T164506Z
LAST-MODIFIED:20260407T164506Z
UID:7672-1776452400-1776459600@welcometo.sutherlandevangelicalchurch.com
SUMMARY:Church booked for the youth
DESCRIPTION:
URL:https://welcometo.sutherlandevangelicalchurch.com/dir/event/church-booked-for-the-youth-2/
END:VEVENT
BEGIN:VEVENT
DTSTART;TZID=America/Regina:20260419T093000
DTEND;TZID=America/Regina:20260419T120000
DTSTAMP:20260422T170441
CREATED:20260319T173907Z
LAST-MODIFIED:20260319T173907Z
UID:7634-1776591000-1776600000@welcometo.sutherlandevangelicalchurch.com
SUMMARY:Sun Sch 9:30am Worship 10:30am
DESCRIPTION:
URL:https://welcometo.sutherlandevangelicalchurch.com/dir/event/sun-sch-930am-worship-1030am-8/
END:VEVENT
BEGIN:VEVENT
DTSTART;TZID=America/Regina:20260419T120000
DTEND;TZID=America/Regina:20260419T133000
DTSTAMP:20260422T170441
CREATED:20260114T193026Z
LAST-MODIFIED:20260318T174447Z
UID:7442-1776600000-1776605400@welcometo.sutherlandevangelicalchurch.com
SUMMARY:Soup & Bun Fundraiser Lunch
DESCRIPTION:
URL:https://welcometo.sutherlandevangelicalchurch.com/dir/event/soup-bun-lunch/
END:VEVENT
BEGIN:VEVENT
DTSTART;TZID=America/Regina:20260420T190000
DTEND;TZID=America/Regina:20260420T210000
DTSTAMP:20260422T170441
CREATED:20260410T173649Z
LAST-MODIFIED:20260410T173649Z
UID:7683-1776711600-1776718800@welcometo.sutherlandevangelicalchurch.com
SUMMARY:Youth band practice
DESCRIPTION:
URL:https://welcometo.sutherlandevangelicalchurch.com/dir/event/youth-band-practice-4/
END:VEVENT
BEGIN:VEVENT
DTSTART;TZID=America/Regina:20260422T190000
DTEND;TZID=America/Regina:20260422T210000
DTSTAMP:20260422T170441
CREATED:20260410T184344Z
LAST-MODIFIED:20260410T184344Z
UID:7685-1776884400-1776891600@welcometo.sutherlandevangelicalchurch.com
SUMMARY:Bible Study
DESCRIPTION:Boardroom or Zoom
URL:https://welcometo.sutherlandevangelicalchurch.com/dir/event/bible-study-93/
END:VEVENT
BEGIN:VEVENT
DTSTART;TZID=America/Regina:20260424T190000
DTEND;TZID=America/Regina:20260424T210000
DTSTAMP:20260422T170441
CREATED:20260417T184611Z
LAST-MODIFIED:20260417T184611Z
UID:7693-1777057200-1777064400@welcometo.sutherlandevangelicalchurch.com
SUMMARY:Youth Event - Laser Tag
DESCRIPTION:Contact Pastor Josh for the details.
URL:https://welcometo.sutherlandevangelicalchurch.com/dir/event/youth-event-laser-tag/
END:VEVENT
BEGIN:VEVENT
DTSTART;TZID=America/Regina:20260426T093000
DTEND;TZID=America/Regina:20260426T120000
DTSTAMP:20260422T170441
CREATED:20260319T174008Z
LAST-MODIFIED:20260319T174008Z
UID:7636-1777195800-1777204800@welcometo.sutherlandevangelicalchurch.com
SUMMARY:Sun Sch 9:30am Worship 10:30am
DESCRIPTION:
URL:https://welcometo.sutherlandevangelicalchurch.com/dir/event/sun-sch-930am-worship-1030am-9/
END:VEVENT
BEGIN:VEVENT
DTSTART;TZID=America/Regina:20260429T190000
DTEND;TZID=America/Regina:20260429T210000
DTSTAMP:20260422T170441
CREATED:20260410T184449Z
LAST-MODIFIED:20260410T184449Z
UID:7687-1777489200-1777496400@welcometo.sutherlandevangelicalchurch.com
SUMMARY:Bible Study
DESCRIPTION:Boardroom or Zoom.\nThis will wrap up Bible study until the fall.
URL:https://welcometo.sutherlandevangelicalchurch.com/dir/event/bible-study-94/
END:VEVENT
BEGIN:VEVENT
DTSTART;TZID=America/Regina:20260429T190000
DTEND;TZID=America/Regina:20260429T210000
DTSTAMP:20260422T170441
CREATED:20260417T184911Z
LAST-MODIFIED:20260417T184911Z
UID:7695-1777489200-1777496400@welcometo.sutherlandevangelicalchurch.com
SUMMARY:Youth Paint Night
DESCRIPTION:See Pastor Josh for details
URL:https://welcometo.sutherlandevangelicalchurch.com/dir/event/youth-paint-night/
END:VEVENT
BEGIN:VEVENT
DTSTART;VALUE=DATE:20260502
DTEND;VALUE=DATE:20260503
DTSTAMP:20260422T170441
CREATED:20260409T194019Z
LAST-MODIFIED:20260409T194019Z
UID:7674-1777680000-1777766399@welcometo.sutherlandevangelicalchurch.com
SUMMARY:Kadesh Workday
DESCRIPTION:
URL:https://welcometo.sutherlandevangelicalchurch.com/dir/event/kadesh-workday-2/
END:VEVENT
END:VCALENDAR