BEGIN:VCALENDAR
VERSION:2.0
PRODID:-//Sutherland Evangelical Church - ECPv6.15.13.1//NONSGML v1.0//EN
CALSCALE:GREGORIAN
METHOD:PUBLISH
X-WR-CALNAME:Sutherland Evangelical Church
X-ORIGINAL-URL:https://welcometo.sutherlandevangelicalchurch.com/dir
X-WR-CALDESC:Events for Sutherland Evangelical Church
REFRESH-INTERVAL;VALUE=DURATION:PT1H
X-Robots-Tag:noindex
X-PUBLISHED-TTL:PT1H
BEGIN:VTIMEZONE
TZID:America/Regina
BEGIN:STANDARD
TZOFFSETFROM:-0600
TZOFFSETTO:-0600
TZNAME:CST
DTSTART:20240101T000000
END:STANDARD
END:VTIMEZONE
BEGIN:VEVENT
DTSTART;TZID=America/Regina:20260113T190000
DTEND;TZID=America/Regina:20260113T203000
DTSTAMP:20260422T230814
CREATED:20260102T184144Z
LAST-MODIFIED:20260102T184144Z
UID:7379-1768330800-1768336200@welcometo.sutherlandevangelicalchurch.com
SUMMARY:His Praise practice
DESCRIPTION:
URL:https://welcometo.sutherlandevangelicalchurch.com/dir/event/his-praise-practice-43/
END:VEVENT
BEGIN:VEVENT
DTSTART;TZID=America/Regina:20260112T183000
DTEND;TZID=America/Regina:20260112T200000
DTSTAMP:20260422T230814
CREATED:20251205T174557Z
LAST-MODIFIED:20251205T174557Z
UID:7322-1768242600-1768248000@welcometo.sutherlandevangelicalchurch.com
SUMMARY:Baby Shower
DESCRIPTION:Celebrating with Kaitlyn and Brooks
URL:https://welcometo.sutherlandevangelicalchurch.com/dir/event/baby-shower-10/
END:VEVENT
BEGIN:VEVENT
DTSTART;TZID=America/Regina:20260108T190000
DTEND;TZID=America/Regina:20260108T210000
DTSTAMP:20260422T230814
CREATED:20260102T163832Z
LAST-MODIFIED:20260102T163832Z
UID:7350-1767898800-1767906000@welcometo.sutherlandevangelicalchurch.com
SUMMARY:Church booked for SEC youth night.
DESCRIPTION:
URL:https://welcometo.sutherlandevangelicalchurch.com/dir/event/church-booked-for-sec-youth-night/
END:VEVENT
BEGIN:VEVENT
DTSTART;TZID=America/Regina:20260107T190000
DTEND;TZID=America/Regina:20260107T203000
DTSTAMP:20260422T230814
CREATED:20260102T183747Z
LAST-MODIFIED:20260102T183747Z
UID:7371-1767812400-1767817800@welcometo.sutherlandevangelicalchurch.com
SUMMARY:Bible Study
DESCRIPTION:In the Board Room or by Zoom
URL:https://welcometo.sutherlandevangelicalchurch.com/dir/event/bible-study-84/
END:VEVENT
BEGIN:VEVENT
DTSTART;TZID=America/Regina:20260106T190000
DTEND;TZID=America/Regina:20260106T203000
DTSTAMP:20260422T230814
CREATED:20260102T183953Z
LAST-MODIFIED:20260102T183953Z
UID:7377-1767726000-1767731400@welcometo.sutherlandevangelicalchurch.com
SUMMARY:Heart of Worship practice
DESCRIPTION:
URL:https://welcometo.sutherlandevangelicalchurch.com/dir/event/heart-of-worship-practice-26/
END:VEVENT
BEGIN:VEVENT
DTSTART;VALUE=DATE:20260102
DTEND;VALUE=DATE:20260103
DTSTAMP:20260422T230814
CREATED:20251203T174026Z
LAST-MODIFIED:20251203T174026Z
UID:7313-1767312000-1767398399@welcometo.sutherlandevangelicalchurch.com
SUMMARY:No youth event
DESCRIPTION:
URL:https://welcometo.sutherlandevangelicalchurch.com/dir/event/no-youth-event-2/
END:VEVENT
BEGIN:VEVENT
DTSTART;VALUE=DATE:20260101
DTEND;VALUE=DATE:20260102
DTSTAMP:20260422T230814
CREATED:20250925T194912Z
LAST-MODIFIED:20250925T194912Z
UID:7125-1767225600-1767311999@welcometo.sutherlandevangelicalchurch.com
SUMMARY:Office Closed
DESCRIPTION:
URL:https://welcometo.sutherlandevangelicalchurch.com/dir/event/office-closed-38/
END:VEVENT
BEGIN:VEVENT
DTSTART;TZID=America/Regina:20251231T190000
DTEND;TZID=America/Regina:20251231T235900
DTSTAMP:20260422T230814
CREATED:20251212T173031Z
LAST-MODIFIED:20251212T173132Z
UID:7335-1767207600-1767225540@welcometo.sutherlandevangelicalchurch.com
SUMMARY:New Year's Eve Games & Prayer
DESCRIPTION:Bring snacks and games!
URL:https://welcometo.sutherlandevangelicalchurch.com/dir/event/new-years-eve-games-prayer/
END:VEVENT
BEGIN:VEVENT
DTSTART;TZID=America/Regina:20251228T103000
DTEND;TZID=America/Regina:20251228T120000
DTSTAMP:20260422T230814
CREATED:20251203T174109Z
LAST-MODIFIED:20251203T174156Z
UID:7315-1766917800-1766923200@welcometo.sutherlandevangelicalchurch.com
SUMMARY:Worship 10:30am (No Sunday School)
DESCRIPTION:
URL:https://welcometo.sutherlandevangelicalchurch.com/dir/event/worship-1030-am-no-sunday-school/
END:VEVENT
BEGIN:VEVENT
DTSTART;TZID=America/Regina:20251227T170000
DTEND;TZID=America/Regina:20251227T220000
DTSTAMP:20260422T230814
CREATED:20251114T172713Z
LAST-MODIFIED:20251114T172713Z
UID:7238-1766854800-1766872800@welcometo.sutherlandevangelicalchurch.com
SUMMARY:Private Rental
DESCRIPTION:D Doerksen
URL:https://welcometo.sutherlandevangelicalchurch.com/dir/event/private-rental-45/
END:VEVENT
BEGIN:VEVENT
DTSTART;VALUE=DATE:20251226
DTEND;VALUE=DATE:20251227
DTSTAMP:20260422T230814
CREATED:20251203T173955Z
LAST-MODIFIED:20251203T173955Z
UID:7311-1766707200-1766793599@welcometo.sutherlandevangelicalchurch.com
SUMMARY:No youth event
DESCRIPTION:
URL:https://welcometo.sutherlandevangelicalchurch.com/dir/event/no-youth-event/
END:VEVENT
BEGIN:VEVENT
DTSTART;VALUE=DATE:20251226
DTEND;VALUE=DATE:20251227
DTSTAMP:20260422T230814
CREATED:20250925T194851Z
LAST-MODIFIED:20250925T194851Z
UID:7123-1766707200-1766793599@welcometo.sutherlandevangelicalchurch.com
SUMMARY:Office Closed
DESCRIPTION:
URL:https://welcometo.sutherlandevangelicalchurch.com/dir/event/office-closed-37/
END:VEVENT
BEGIN:VEVENT
DTSTART;VALUE=DATE:20251225
DTEND;VALUE=DATE:20251226
DTSTAMP:20260422T230814
CREATED:20250925T194831Z
LAST-MODIFIED:20250925T194831Z
UID:7121-1766620800-1766707199@welcometo.sutherlandevangelicalchurch.com
SUMMARY:Office Closed
DESCRIPTION:
URL:https://welcometo.sutherlandevangelicalchurch.com/dir/event/office-closed-36/
END:VEVENT
BEGIN:VEVENT
DTSTART;TZID=America/Regina:20251221T180000
DTEND;TZID=America/Regina:20251221T193000
DTSTAMP:20260422T230814
CREATED:20250926T173945Z
LAST-MODIFIED:20250926T173945Z
UID:7131-1766340000-1766345400@welcometo.sutherlandevangelicalchurch.com
SUMMARY:Christmas Program
DESCRIPTION:
URL:https://welcometo.sutherlandevangelicalchurch.com/dir/event/christmas-program-3/
END:VEVENT
BEGIN:VEVENT
DTSTART;TZID=America/Regina:20251221T093000
DTEND;TZID=America/Regina:20251221T120000
DTSTAMP:20260422T230814
CREATED:20251203T174239Z
LAST-MODIFIED:20251203T174239Z
UID:7318-1766309400-1766318400@welcometo.sutherlandevangelicalchurch.com
SUMMARY:Sun Schl 9:30am Worship 10:30am
DESCRIPTION:
URL:https://welcometo.sutherlandevangelicalchurch.com/dir/event/sun-schl-930am-worship-1030am-11/
END:VEVENT
BEGIN:VEVENT
DTSTART;TZID=America/Regina:20251219T190000
DTEND;TZID=America/Regina:20251219T210000
DTSTAMP:20260422T230814
CREATED:20251203T173816Z
LAST-MODIFIED:20251203T173816Z
UID:7309-1766170800-1766178000@welcometo.sutherlandevangelicalchurch.com
SUMMARY:Youth Christmas Party
DESCRIPTION:Youth Wing
URL:https://welcometo.sutherlandevangelicalchurch.com/dir/event/youth-christmas-party/
END:VEVENT
BEGIN:VEVENT
DTSTART;TZID=America/Regina:20251214T093000
DTEND;TZID=America/Regina:20251214T120000
DTSTAMP:20260422T230814
CREATED:20251203T174927Z
LAST-MODIFIED:20251203T174957Z
UID:7320-1765704600-1765713600@welcometo.sutherlandevangelicalchurch.com
SUMMARY:Sun Schl 9:30am Worship 10:30am
DESCRIPTION:
URL:https://welcometo.sutherlandevangelicalchurch.com/dir/event/sun-schl-930am-worship-1030am-12/
END:VEVENT
BEGIN:VEVENT
DTSTART;TZID=America/Regina:20251212T190000
DTEND;TZID=America/Regina:20251212T210000
DTSTAMP:20260422T230814
CREATED:20251203T173218Z
LAST-MODIFIED:20251203T173218Z
UID:7303-1765566000-1765573200@welcometo.sutherlandevangelicalchurch.com
SUMMARY:Church Overflow/Dining area booked for Youth
DESCRIPTION:
URL:https://welcometo.sutherlandevangelicalchurch.com/dir/event/church-overflow-dining-area-booked-for-youth/
END:VEVENT
BEGIN:VEVENT
DTSTART;TZID=America/Regina:20251210T190000
DTEND;TZID=America/Regina:20251210T203000
DTSTAMP:20260422T230814
CREATED:20251203T173643Z
LAST-MODIFIED:20251203T173643Z
UID:7307-1765393200-1765398600@welcometo.sutherlandevangelicalchurch.com
SUMMARY:Bible Study
DESCRIPTION:Studying Ephesians in the Board Room
URL:https://welcometo.sutherlandevangelicalchurch.com/dir/event/bible-study-83/
END:VEVENT
BEGIN:VEVENT
DTSTART;TZID=America/Regina:20251210T093000
DTEND;TZID=America/Regina:20251210T110000
DTSTAMP:20260422T230814
CREATED:20251125T173752Z
LAST-MODIFIED:20251125T173752Z
UID:7278-1765359000-1765364400@welcometo.sutherlandevangelicalchurch.com
SUMMARY:Coffee Fellowship
DESCRIPTION:
URL:https://welcometo.sutherlandevangelicalchurch.com/dir/event/coffee-fellowship-16/
END:VEVENT
BEGIN:VEVENT
DTSTART;TZID=America/Regina:20251207T093000
DTEND;TZID=America/Regina:20251207T120000
DTSTAMP:20260422T230814
CREATED:20251203T173327Z
LAST-MODIFIED:20251203T173327Z
UID:7305-1765099800-1765108800@welcometo.sutherlandevangelicalchurch.com
SUMMARY:Sun Schl 9:30am Worship 10:30am
DESCRIPTION:
URL:https://welcometo.sutherlandevangelicalchurch.com/dir/event/sun-schl-930am-worship-1030am-10/
END:VEVENT
BEGIN:VEVENT
DTSTART;TZID=America/Regina:20251206T170000
DTEND;TZID=America/Regina:20251206T220000
DTSTAMP:20260422T230814
CREATED:20250919T201051Z
LAST-MODIFIED:20250919T201218Z
UID:7110-1765040400-1765058400@welcometo.sutherlandevangelicalchurch.com
SUMMARY:Christmas Celebration Supper 5PM
DESCRIPTION:
URL:https://welcometo.sutherlandevangelicalchurch.com/dir/event/christmas-celebration-supper-2/
END:VEVENT
BEGIN:VEVENT
DTSTART;VALUE=DATE:20251205
DTEND;VALUE=DATE:20251207
DTSTAMP:20260422T230814
CREATED:20250919T200843Z
LAST-MODIFIED:20250919T201157Z
UID:7108-1764892800-1765065599@welcometo.sutherlandevangelicalchurch.com
SUMMARY:Kitchen & Fellowship Area booked
DESCRIPTION:Christmas celebration prep day.
URL:https://welcometo.sutherlandevangelicalchurch.com/dir/event/kitchen-fellowship-area-booked/
END:VEVENT
BEGIN:VEVENT
DTSTART;TZID=America/Regina:20251203T190000
DTEND;TZID=America/Regina:20251203T203000
DTSTAMP:20260422T230814
CREATED:20251121T185301Z
LAST-MODIFIED:20251121T185301Z
UID:7272-1764788400-1764793800@welcometo.sutherlandevangelicalchurch.com
SUMMARY:Bible Study
DESCRIPTION:
URL:https://welcometo.sutherlandevangelicalchurch.com/dir/event/bible-study-81/
END:VEVENT
BEGIN:VEVENT
DTSTART;TZID=America/Regina:20251202T190000
DTEND;TZID=America/Regina:20251202T203000
DTSTAMP:20260422T230814
CREATED:20250919T155819Z
LAST-MODIFIED:20250919T155819Z
UID:7096-1764702000-1764707400@welcometo.sutherlandevangelicalchurch.com
SUMMARY:His Praise practice
DESCRIPTION:
URL:https://welcometo.sutherlandevangelicalchurch.com/dir/event/his-praise-practice-42/
END:VEVENT
BEGIN:VEVENT
DTSTART;TZID=America/Regina:20251130T093000
DTEND;TZID=America/Regina:20251130T120000
DTSTAMP:20260422T230814
CREATED:20251106T190656Z
LAST-MODIFIED:20251106T191853Z
UID:7221-1764495000-1764504000@welcometo.sutherlandevangelicalchurch.com
SUMMARY:Sun Schl 9:30am Worship 10:30am
DESCRIPTION:
URL:https://welcometo.sutherlandevangelicalchurch.com/dir/event/sun-schl-930am-worship-1030am-9/
END:VEVENT
BEGIN:VEVENT
DTSTART;TZID=America/Regina:20251130T093000
DTEND;TZID=America/Regina:20251130T103000
DTSTAMP:20260422T230814
CREATED:20251003T172054Z
LAST-MODIFIED:20251105T154118Z
UID:7159-1764495000-1764498600@welcometo.sutherlandevangelicalchurch.com
SUMMARY:Board Room booked
DESCRIPTION:Darlene
URL:https://welcometo.sutherlandevangelicalchurch.com/dir/event/board-room-booked-7/
END:VEVENT
BEGIN:VEVENT
DTSTART;TZID=America/Regina:20251127T183000
DTEND;TZID=America/Regina:20251127T203000
DTSTAMP:20260422T230814
CREATED:20251017T155619Z
LAST-MODIFIED:20251017T155619Z
UID:7184-1764268200-1764275400@welcometo.sutherlandevangelicalchurch.com
SUMMARY:Council Meeting
DESCRIPTION:
URL:https://welcometo.sutherlandevangelicalchurch.com/dir/event/council-meeting-55/
END:VEVENT
BEGIN:VEVENT
DTSTART;TZID=America/Regina:20251126T190000
DTEND;TZID=America/Regina:20251126T203000
DTSTAMP:20260422T230814
CREATED:20251121T185348Z
LAST-MODIFIED:20251121T185348Z
UID:7274-1764183600-1764189000@welcometo.sutherlandevangelicalchurch.com
SUMMARY:Bible Study
DESCRIPTION:
URL:https://welcometo.sutherlandevangelicalchurch.com/dir/event/bible-study-82/
END:VEVENT
BEGIN:VEVENT
DTSTART;TZID=America/Regina:20251125T190000
DTEND;TZID=America/Regina:20251125T203000
DTSTAMP:20260422T230814
CREATED:20250919T155740Z
LAST-MODIFIED:20250919T155740Z
UID:7094-1764097200-1764102600@welcometo.sutherlandevangelicalchurch.com
SUMMARY:Heart of Worship practice
DESCRIPTION:
URL:https://welcometo.sutherlandevangelicalchurch.com/dir/event/heart-of-worship-practice-25/
END:VEVENT
END:VCALENDAR