BEGIN:VCALENDAR
VERSION:2.0
PRODID:-//Sutherland Evangelical Church - ECPv6.15.13.1//NONSGML v1.0//EN
CALSCALE:GREGORIAN
METHOD:PUBLISH
X-WR-CALNAME:Sutherland Evangelical Church
X-ORIGINAL-URL:https://welcometo.sutherlandevangelicalchurch.com/dir
X-WR-CALDESC:Events for Sutherland Evangelical Church
REFRESH-INTERVAL;VALUE=DURATION:PT1H
X-Robots-Tag:noindex
X-PUBLISHED-TTL:PT1H
BEGIN:VTIMEZONE
TZID:America/Regina
BEGIN:STANDARD
TZOFFSETFROM:-0600
TZOFFSETTO:-0600
TZNAME:CST
DTSTART:20250101T000000
END:STANDARD
END:VTIMEZONE
BEGIN:VEVENT
DTSTART;VALUE=DATE:20260313
DTEND;VALUE=DATE:20260314
DTSTAMP:20260422T151026
CREATED:20260108T165145Z
LAST-MODIFIED:20260303T195844Z
UID:7416-1773360000-1773446399@welcometo.sutherlandevangelicalchurch.com
SUMMARY:Church Rental
DESCRIPTION:
URL:https://welcometo.sutherlandevangelicalchurch.com/dir/event/church-rental-gospel-echoes-dessert-night-7pm/
END:VEVENT
BEGIN:VEVENT
DTSTART;TZID=America/Regina:20260313T090000
DTEND;TZID=America/Regina:20260313T170000
DTSTAMP:20260422T151026
CREATED:20260306T192607Z
LAST-MODIFIED:20260306T192607Z
UID:7582-1773392400-1773421200@welcometo.sutherlandevangelicalchurch.com
SUMMARY:Board Room booked
DESCRIPTION:Kadesh
URL:https://welcometo.sutherlandevangelicalchurch.com/dir/event/board-room-booked-11/
END:VEVENT
BEGIN:VEVENT
DTSTART;TZID=America/Regina:20260313T190000
DTEND;TZID=America/Regina:20260313T210000
DTSTAMP:20260422T151026
CREATED:20260303T195935Z
LAST-MODIFIED:20260303T195935Z
UID:7572-1773428400-1773435600@welcometo.sutherlandevangelicalchurch.com
SUMMARY:Gospel Echoes Music & Dessert Night
DESCRIPTION:
URL:https://welcometo.sutherlandevangelicalchurch.com/dir/event/gospel-echoes-music-dessert-night/
END:VEVENT
END:VCALENDAR