BEGIN:VCALENDAR
VERSION:2.0
PRODID:-//Sutherland Evangelical Church - ECPv6.15.13.1//NONSGML v1.0//EN
CALSCALE:GREGORIAN
METHOD:PUBLISH
X-WR-CALNAME:Sutherland Evangelical Church
X-ORIGINAL-URL:https://welcometo.sutherlandevangelicalchurch.com/dir
X-WR-CALDESC:Events for Sutherland Evangelical Church
REFRESH-INTERVAL;VALUE=DURATION:PT1H
X-Robots-Tag:noindex
X-PUBLISHED-TTL:PT1H
BEGIN:VTIMEZONE
TZID:America/Regina
BEGIN:STANDARD
TZOFFSETFROM:-0600
TZOFFSETTO:-0600
TZNAME:CST
DTSTART:20250101T000000
END:STANDARD
END:VTIMEZONE
BEGIN:VEVENT
DTSTART;TZID=America/Regina:20260311T093000
DTEND;TZID=America/Regina:20260311T113000
DTSTAMP:20260422T151028
CREATED:20260114T193512Z
LAST-MODIFIED:20260114T193512Z
UID:7450-1773221400-1773228600@welcometo.sutherlandevangelicalchurch.com
SUMMARY:Coffee Fellowship
DESCRIPTION:
URL:https://welcometo.sutherlandevangelicalchurch.com/dir/event/coffee-fellowship-18/
END:VEVENT
BEGIN:VEVENT
DTSTART;TZID=America/Regina:20260311T190000
DTEND;TZID=America/Regina:20260311T203000
DTSTAMP:20260422T151028
CREATED:20260205T185659Z
LAST-MODIFIED:20260205T185659Z
UID:7521-1773255600-1773261000@welcometo.sutherlandevangelicalchurch.com
SUMMARY:Bible study
DESCRIPTION:
URL:https://welcometo.sutherlandevangelicalchurch.com/dir/event/bible-study-89/
END:VEVENT
END:VCALENDAR