BEGIN:VCALENDAR
VERSION:2.0
PRODID:-//Sutherland Evangelical Church - ECPv6.15.13.1//NONSGML v1.0//EN
CALSCALE:GREGORIAN
METHOD:PUBLISH
X-WR-CALNAME:Sutherland Evangelical Church
X-ORIGINAL-URL:https://welcometo.sutherlandevangelicalchurch.com/dir
X-WR-CALDESC:Events for Sutherland Evangelical Church
REFRESH-INTERVAL;VALUE=DURATION:PT1H
X-Robots-Tag:noindex
X-PUBLISHED-TTL:PT1H
BEGIN:VTIMEZONE
TZID:America/Regina
BEGIN:STANDARD
TZOFFSETFROM:-0600
TZOFFSETTO:-0600
TZNAME:CST
DTSTART:20250101T000000
END:STANDARD
END:VTIMEZONE
BEGIN:VEVENT
DTSTART;TZID=America/Regina:20260224T120000
DTEND;TZID=America/Regina:20260224T123000
DTSTAMP:20260422T171414
CREATED:20260205T184819Z
LAST-MODIFIED:20260205T184819Z
UID:7513-1771934400-1771936200@welcometo.sutherlandevangelicalchurch.com
SUMMARY:Prayer meeting
DESCRIPTION:
URL:https://welcometo.sutherlandevangelicalchurch.com/dir/event/prayer-meeting-3/
END:VEVENT
BEGIN:VEVENT
DTSTART;TZID=America/Regina:20260224T190000
DTEND;TZID=America/Regina:20260224T203000
DTSTAMP:20260422T171414
CREATED:20260102T184719Z
LAST-MODIFIED:20260102T184719Z
UID:7388-1771959600-1771965000@welcometo.sutherlandevangelicalchurch.com
SUMMARY:His Praise practice
DESCRIPTION:
URL:https://welcometo.sutherlandevangelicalchurch.com/dir/event/his-praise-practice-45/
END:VEVENT
END:VCALENDAR